BEGIN:VCALENDAR
VERSION:2.0
PRODID:-//Rocky Mountain Section PGA - ECPv6.15.20//NONSGML v1.0//EN
CALSCALE:GREGORIAN
METHOD:PUBLISH
X-WR-CALNAME:Rocky Mountain Section PGA
X-ORIGINAL-URL:https://rockymountainpga.com
X-WR-CALDESC:Events for Rocky Mountain Section PGA
REFRESH-INTERVAL;VALUE=DURATION:PT1H
X-Robots-Tag:noindex
X-PUBLISHED-TTL:PT1H
BEGIN:VTIMEZONE
TZID:UTC
BEGIN:STANDARD
TZOFFSETFROM:+0000
TZOFFSETTO:+0000
TZNAME:UTC
DTSTART:20220101T000000
END:STANDARD
END:VTIMEZONE
BEGIN:VEVENT
DTSTART;VALUE=DATE:20231114
DTEND;VALUE=DATE:20231115
DTSTAMP:20260423T020119
CREATED:20230526T214605Z
LAST-MODIFIED:20231109T045812Z
UID:10000957-1699920000-1700006399@rockymountainpga.com
SUMMARY:Snake River Chapter Fall Meeting & Education
DESCRIPTION:Snake River Chapter Fall Meeting & Education \nBlue Lakes Country Club – Twin Falls\, ID \nTuesday\, November 14\, 2023 \nCLICK HERE to Register
URL:https://rockymountainpga.com/event/snake-river-chapter-fall-meeting-education-3/
CATEGORIES:Education Meetings,Snake River
END:VEVENT
BEGIN:VEVENT
DTSTART;VALUE=DATE:20231115
DTEND;VALUE=DATE:20231116
DTSTAMP:20260423T020119
CREATED:20231027T222535Z
LAST-MODIFIED:20231027T223158Z
UID:10000959-1700006400-1700092799@rockymountainpga.com
SUMMARY:SuperSpeed Workshop
DESCRIPTION:SUPERSPEED GOLF WORKSHOP \nWednesday\, November 15\, 2023\nBlue Lakes Country Club\nTwin Falls\, ID \nCLICK HERE for SuperSpeed Workshop Agenda \nCLICK HERE for Professional Registration Only
URL:https://rockymountainpga.com/event/superspeed-workshop/
CATEGORIES:Education Meetings
END:VEVENT
END:VCALENDAR