BEGIN:VCALENDAR
VERSION:2.0
PRODID:-//Rocky Mountain Section PGA - ECPv6.15.20//NONSGML v1.0//EN
CALSCALE:GREGORIAN
METHOD:PUBLISH
X-ORIGINAL-URL:https://rockymountainpga.com
X-WR-CALDESC:Events for Rocky Mountain Section PGA
REFRESH-INTERVAL;VALUE=DURATION:PT1H
X-Robots-Tag:noindex
X-PUBLISHED-TTL:PT1H
BEGIN:VTIMEZONE
TZID:UTC
BEGIN:STANDARD
TZOFFSETFROM:+0000
TZOFFSETTO:+0000
TZNAME:UTC
DTSTART:20220101T000000
END:STANDARD
END:VTIMEZONE
BEGIN:VEVENT
DTSTART;VALUE=DATE:20230306
DTEND;VALUE=DATE:20230307
DTSTAMP:20260419T175041
CREATED:20230116T220908Z
LAST-MODIFIED:20230307T175156Z
UID:10000897-1678060800-1678147199@rockymountainpga.com
SUMMARY:Clear Lake CC Pro-Am
DESCRIPTION:Clear Lake Country Club Pro-Am\nBuhl\, ID\nMonday\, March 6\, 2023 \n18 Holes\, 1G/1N; 11:00 Shotgun\nTee Markers: Professionals – Blue\, Women Professionals – White\,\nSenior Professionals – White\, Amateurs – White\, Lady Amateurs – Red\nEntry Fees: Professionals – $80\, Amateurs – $80\n$65 to Purse & Sanction\nEntry Includes: $15 Golf Car\n28 Teams Max – Shorts Permitted\nForeTees On-line Entry Only Dates: Members – 2/22\, Associates – 2/26\n(208) 543-4849 – Brian Kain \nCLICK HERE for Results
URL:https://rockymountainpga.com/event/clear-lake-cc-pro-am-3/
CATEGORIES:Snake River
END:VEVENT
BEGIN:VEVENT
DTSTART;VALUE=DATE:20230307
DTEND;VALUE=DATE:20230308
DTSTAMP:20260419T175041
CREATED:20230116T215844Z
LAST-MODIFIED:20230116T220213Z
UID:10000896-1678147200-1678233599@rockymountainpga.com
SUMMARY:Yellowstone Chapter Spring Meeting & Education
DESCRIPTION:Yellowstone Chapter Spring Meeting & Education \nHilands Golf Club\nBillings\, MT \nTuesday\, March 7\, 2023 \nSchedule of Events not yet available. \nRocky Mountain Section PGA Members & Associates Only\nCLICK HERE to Register
URL:https://rockymountainpga.com/event/yellowstone-chapter-spring-meeting-education-2/
CATEGORIES:Education Meetings,Yellowstone
END:VEVENT
BEGIN:VEVENT
DTSTART;VALUE=DATE:20230320
DTEND;VALUE=DATE:20230321
DTSTAMP:20260419T175041
CREATED:20230116T225604Z
LAST-MODIFIED:20230322T230748Z
UID:10000898-1679270400-1679356799@rockymountainpga.com
SUMMARY:Centennial Golf Course Pro-Am
DESCRIPTION:Centennial Golf Course Pro-Am\nNampa\, ID\nMonday\, March 20\, 2023 \n18 Holes\, 1G/1N; 11:00 a.m. Shotgun\nTee Markers: Professionals – Blue\, Women Professionals – Red\,\nSenior Professionals – White\, Amateurs – White\, Lady Amateurs – Red\nEntry Fees: Professionals – $65\, Amateurs – $65\n$60 to Purse & Sanction\nEntry Includes: $5 Range\n28 Teams Max\nForeTees Online Entry Only Dates: Members – 3/8\, Associates – 3/12\n(208) 468-5889 – Tony Blasius \nCLICK HERE for Results
URL:https://rockymountainpga.com/event/centennial-golf-course-pro-am-3/
CATEGORIES:Snake River
END:VEVENT
BEGIN:VEVENT
DTSTART;VALUE=DATE:20230327
DTEND;VALUE=DATE:20230328
DTSTAMP:20260419T175041
CREATED:20230125T203711Z
LAST-MODIFIED:20230328T151219Z
UID:10000899-1679875200-1679961599@rockymountainpga.com
SUMMARY:Canyon Springs Pro-Am
DESCRIPTION:Canyon Springs Golf Course Pro-Am\nTwin Falls\, ID\nMonday\, March 27\, 2023 \n18 Holes\, 1G/1N; 11:00 a.m. Shotgun\nTee Markers: Professionals – Blue\, Women Professionals – White\, Senior Professionals – White\,\nAmateurs – White\, Women Amateurs – Gold\nEntry Fees: Professionals – $75\, Amateurs – $75\, $75 to Purse and Sanction; 28 Teams Max\nForeTees Online Entry Only Dates: 8:00 a.m.; Members – 3/15\, Associates – 3/19\n(208) 734-7609 Brandon Otte \nCLICK HERE for Results
URL:https://rockymountainpga.com/event/canyon-springs-pro-am-4/
CATEGORIES:Snake River
END:VEVENT
END:VCALENDAR