BEGIN:VCALENDAR
VERSION:2.0
PRODID:-//Rocky Mountain Section PGA - ECPv6.15.20//NONSGML v1.0//EN
CALSCALE:GREGORIAN
METHOD:PUBLISH
X-WR-CALNAME:Rocky Mountain Section PGA
X-ORIGINAL-URL:https://rockymountainpga.com
X-WR-CALDESC:Events for Rocky Mountain Section PGA
REFRESH-INTERVAL;VALUE=DURATION:PT1H
X-Robots-Tag:noindex
X-PUBLISHED-TTL:PT1H
BEGIN:VTIMEZONE
TZID:UTC
BEGIN:STANDARD
TZOFFSETFROM:+0000
TZOFFSETTO:+0000
TZNAME:UTC
DTSTART:20210101T000000
END:STANDARD
END:VTIMEZONE
BEGIN:VEVENT
DTSTART;VALUE=DATE:20220906
DTEND;VALUE=DATE:20220908
DTSTAMP:20260419T143736
CREATED:20220413T194704Z
LAST-MODIFIED:20220908T205039Z
UID:10000693-1662422400-1662595199@rockymountainpga.com
SUMMARY:Idaho Falls Country Club / Pinecrest Golf Club Pro-Am
DESCRIPTION:Idaho Falls Country Club / Pinecrest Golf Club Pro-Am\nIdaho Falls\, ID\nTuesday & Wednesday\, September 6-7\, 2022 \nPROFESSIONAL MUST SIGN UP SEPARATELY FOR BOTH DAYS\nSeparate 18-Hole Events for Pros & Ams\, Chicago Best 3 of 4 per 9 for team both days; 8:00 a.m. to 2:00 p.m. Tee Times\nTee Markers: Professionals – Black/Black\, Women Professionals – White/White Combo\,\nSenior Professionals – Blue/White\, Amateurs – Blue/White\, Tee-it-Forward\nLady Amateurs (Max Team Hcp. 18 – Individual Max Hcp. 28) – Red/Green\nEntry Fees: Professionals – $200\, Amateurs – $200\, $140 to Purse & Sanction\nEntry Includes: Lunch – $30 Golf Car\n37 Teams Max – Shorts Permitted\nForeTees On-line Entry Only Dates: Members – 8/25\, Associates – 8/29\n(208) 523-5762 – Jason Jacobsen & Tim Reinke \nCLICK HERE for Idaho Falls CC Pro-Am Results \nCLICK HERE for the Pinecrest GC Pro-Am Results
URL:https://rockymountainpga.com/event/idaho-falls-country-club-pinecrest-golf-club-pro-am-2/
CATEGORIES:Snake River
END:VEVENT
BEGIN:VEVENT
DTSTART;VALUE=DATE:20220910
DTEND;VALUE=DATE:20220912
DTSTAMP:20260419T143736
CREATED:20220413T195007Z
LAST-MODIFIED:20220912T154008Z
UID:10000695-1662768000-1662940799@rockymountainpga.com
SUMMARY:Gallatin Valley Open
DESCRIPTION:Pepsi Gallatin Valley Open presented by Culligan\nCottonwood Hills Golf Course – Bozeman\, Montana\nSaturday & Sunday\, September 10-11\, 2022 \nCLICK HERE for Results
URL:https://rockymountainpga.com/event/gallatin-valley-open-3/
CATEGORIES:Section,Yellowstone
END:VEVENT
BEGIN:VEVENT
DTSTART;VALUE=DATE:20220912
DTEND;VALUE=DATE:20220913
DTSTAMP:20260419T143736
CREATED:20220314T232047Z
LAST-MODIFIED:20220913T142356Z
UID:10000685-1662940800-1663027199@rockymountainpga.com
SUMMARY:Hilands GC Pro-Am
DESCRIPTION:Hilands Golf Club Pro-Am\nBillings\, MT\nMonday\, September 12\, 2022 \n18 Holes\, 1G/2N; 8:15 a.m. & 1:45 p.m. Shotguns;\nTee Markers: Professionals – White/Red\, Amateurs – White/Red\, Lady Amateurs – Blue/Yellow\nEntry Fees: Professionals – $75\, Amateurs – $75\, All to Purse and Sanction;\nEntry Includes: Deuce Pot\, Skins\, UGC’s offered; 25 Teams Max;\nCall In Dates: Members – 8/12\, Associates – 8/12\, Amateur Team Captains – 8/14;\n(406) 259-0419 Eddie Kavran \nCLICK HERE for Results
URL:https://rockymountainpga.com/event/hilands-gc-pro-am-2/
CATEGORIES:Yellowstone
END:VEVENT
BEGIN:VEVENT
DTSTART;VALUE=DATE:20220912
DTEND;VALUE=DATE:20220913
DTSTAMP:20260419T143736
CREATED:20220413T195433Z
LAST-MODIFIED:20220913T164021Z
UID:10000697-1662940800-1663027199@rockymountainpga.com
SUMMARY:Jug Mountain Ranch Pro-Am
DESCRIPTION:Jug Mountain Ranch Pro-Am\nMcCall\, ID\nMonday\, September 12\, 2022 \n18 Holes\, Chicago; 11:00 a.m. Shotgun \nTee Markers: Professionals – Gold\, Women Professionals – Red\,\nSenior Professionals – Blue\, Amateurs – Blue\, Lady Amateurs – Red\nEntry Fees: Professionals – $100\, Amateurs – $100\n$75 to Purse & Sanction\nEntry Includes: $2\,000 Added\, $10 Golf Car\, $15 Lunch\n28 Teams Max – Shorts Permitted \nForeTees Online Entry Only Dates: Members – 8/31\, Associates – 9/4\n(208) 634-5072 – Dustin Ames \nCLICK HERE for Results
URL:https://rockymountainpga.com/event/jug-mountain-ranch-pro-am-4/
CATEGORIES:Snake River
END:VEVENT
BEGIN:VEVENT
DTSTART;VALUE=DATE:20220912
DTEND;VALUE=DATE:20220913
DTSTAMP:20260419T143736
CREATED:20220413T200057Z
LAST-MODIFIED:20220913T143052Z
UID:10000699-1662940800-1663027199@rockymountainpga.com
SUMMARY:Jefferson Hills Golf Course Pro-Am
DESCRIPTION:Jefferson Hills Golf Course Pro-Am\nRigby\, ID\nMonday\, September 12\, 2022 \n18 Holes\, Chicago; 8:00 a.m. – 3:00 p.m. Starting Times\nTee Markers: Professionals – Blue\, Women Professionals – Red\,\nSr. Professionals – Blue\, Amateurs – Blue\, Lady Amateurs – Red\nEntry Fees: Professionals – $60\, Amateurs – $60\n$60 to Purse & Sanction – 43 Teams Max – Shorts permitted \nForeTees Online Entry Only Dates: Members – 8/31\, Associates 9/4\n(208) 745-6492 – Gary Schroeder \nCLICK HERE for Results
URL:https://rockymountainpga.com/event/jefferson-hills-golf-course-pro-am-4/
CATEGORIES:Snake River
END:VEVENT
BEGIN:VEVENT
DTSTART;VALUE=DATE:20220915
DTEND;VALUE=DATE:20220916
DTSTAMP:20260419T143736
CREATED:20220413T200518Z
LAST-MODIFIED:20220805T144151Z
UID:10000701-1663200000-1663286399@rockymountainpga.com
SUMMARY:Idaho Open Pro-Am
DESCRIPTION:Idaho Open Pro-Am\nQuail Hollow Golf Club – Boise\, ID\nThursday\, September 15\, 2022 \nCLICK HERE for Entry Information \nCLICK HERE to Enter – Professionals Only
URL:https://rockymountainpga.com/event/idaho-open-pro-am-invitational-2/
CATEGORIES:Snake River
END:VEVENT
BEGIN:VEVENT
DTSTART;VALUE=DATE:20220916
DTEND;VALUE=DATE:20220919
DTSTAMP:20260419T143736
CREATED:20220413T200850Z
LAST-MODIFIED:20220909T223023Z
UID:10000703-1663286400-1663545599@rockymountainpga.com
SUMMARY:Idaho Open presented by First Tee Idaho
DESCRIPTION:Idaho Open presented by First Tee Idaho\nQuail Hollow Golf Club\nBoise\, ID \nFriday – Sunday\, September 16-18\, 2022 \nEntry has Closed \nCLICK HERE for all tournament information.
URL:https://rockymountainpga.com/event/idaho-open-presented-by-first-tee-of-idaho/
CATEGORIES:Section,Snake River
END:VEVENT
BEGIN:VEVENT
DTSTART;VALUE=DATE:20220919
DTEND;VALUE=DATE:20220920
DTSTAMP:20260419T143736
CREATED:20220316T172159Z
LAST-MODIFIED:20220920T145140Z
UID:10000866-1663545600-1663631999@rockymountainpga.com
SUMMARY:Briarwood Pro-Am
DESCRIPTION:The Briarwood Pro-Am Presented by Mercedes-Benz of Billings\nBillings\, MT\nMonday\, September 19\, 2022 \n18 Holes\, 1G/2N; 8:00 a.m. Starting Times;\nTee Markers: Professionals – Blue\, Women Professionals – White\, Amateurs – Blue\,\nLady Amateurs – Green\, Tee-it-FORWARD; Entry Fees: Professionals – $90\, Amateurs – $90\,\nEntry Includes: Hole-in-One Mercedes on #16\, Lunch\, Range\, Deuce Pot\, Skins\, NO UGC’s offered; 36 Teams Max;\nCall In Dates: Members – 8/19\, Associates – 8/19\, Amateur Team Captains – 8/23;\n(406) 248-2702 – Scott Pekovich / Evan Neihaus \nCLICK HERE for Results
URL:https://rockymountainpga.com/event/briarwood-pro-am/
CATEGORIES:Yellowstone
END:VEVENT
BEGIN:VEVENT
DTSTART;VALUE=DATE:20220921
DTEND;VALUE=DATE:20220922
DTSTAMP:20260419T143736
CREATED:20220413T201016Z
LAST-MODIFIED:20220413T201016Z
UID:10000705-1663718400-1663804799@rockymountainpga.com
SUMMARY:P.A.T. – Warm Springs Golf Course
DESCRIPTION:PGA Player Ability Test\nWednesday\, September 21\, 2022\nWarm Springs Golf Course\nBoise\, Idaho \nCLICK HERE for Information
URL:https://rockymountainpga.com/event/p-a-t-warm-springs-golf-course-2/
CATEGORIES:PAT
END:VEVENT
BEGIN:VEVENT
DTSTART;VALUE=DATE:20220926
DTEND;VALUE=DATE:20220927
DTSTAMP:20260419T143736
CREATED:20220413T201504Z
LAST-MODIFIED:20220927T171446Z
UID:10000709-1664150400-1664236799@rockymountainpga.com
SUMMARY:Jerome Country Club Pro-Am
DESCRIPTION:Jerome Country Club Pro-Am\nJerome\, ID\nMonday\, September 26\, 2022 \n18 Holes\, 1G/1N; 10:00 a.m. Shotgun Start;\nTee Markers: Professionals – Gold\, Women Professionals – Black\, Senior Professionals – Blue\,\nAmateurs – Blue\, Women Amateurs – White; Entry Fees: Professionals – $80\, Amateurs – $80\,\nAll to Purse and Sanction; 28 Teams Max;\nForeTees Online Entry Only Dates: 8:00 a.m.; Members – 9/14\, Associates – 9/18;\n(208) 324-5281 Troy Vitek \nCLICK HERE for Results
URL:https://rockymountainpga.com/event/jerome-country-club-pro-am-4/
CATEGORIES:Snake River
END:VEVENT
BEGIN:VEVENT
DTSTART;VALUE=DATE:20220926
DTEND;VALUE=DATE:20220927
DTSTAMP:20260419T143736
CREATED:20220413T204920Z
LAST-MODIFIED:20220927T204746Z
UID:10000886-1664150400-1664236799@rockymountainpga.com
SUMMARY:River Birch Golf Course Pro-Ladies
DESCRIPTION:River Birch Golf Course Pro-Ladies\nStar\, ID\nMonday\, September 26\, 2022 \n18 Holes\, 1G/1N; 10:00 a.m. – 1:00 p.m. Starting Times\nTee Markers: Professionals – Black\, Women Professionals – White\,\nSenior Professionals – Blue\, Amateurs – Blue\, Lady Amateurs – Red\nEntry Fees: Professionals – $80\, Amateurs – $80\, $45 to Purse & Sanction\nEntry Includes: $5 Range\, $30 Course Usage\n19 Teams Max – Shorts Permitted\nForeTees On-line Entry Only Dates: Members – 9/14\, Associates – 9/18\n(208) 286-0801 – Damian Short \nCLICK HERE for Results
URL:https://rockymountainpga.com/event/river-birch-golf-course-pro-ladies/
CATEGORIES:Snake River
END:VEVENT
BEGIN:VEVENT
DTSTART;VALUE=DATE:20220926
DTEND;VALUE=DATE:20220928
DTSTAMP:20260419T143736
CREATED:20220413T201219Z
LAST-MODIFIED:20220922T170016Z
UID:10000707-1664150400-1664323199@rockymountainpga.com
SUMMARY:Yellowstone Chapter Championship
DESCRIPTION:2022 JC Golf Accessories Yellowstone Chapter PGA Championship\nThe Briarwood – Billings\, MT\nMonday & Tuesday\, September 26-27\, 2022 \nENTRY HAS CLOSED \nCLICK HERE for the BlueGolf Page for Tournament Information. \nCLICK HERE for printable entry information. \n 
URL:https://rockymountainpga.com/event/yellowstone-chapter-championship-4/
CATEGORIES:Yellowstone
END:VEVENT
END:VCALENDAR