BEGIN:VCALENDAR
VERSION:2.0
PRODID:-//Rocky Mountain Section PGA - ECPv6.15.20//NONSGML v1.0//EN
CALSCALE:GREGORIAN
METHOD:PUBLISH
X-WR-CALNAME:Rocky Mountain Section PGA
X-ORIGINAL-URL:https://rockymountainpga.com
X-WR-CALDESC:Events for Rocky Mountain Section PGA
REFRESH-INTERVAL;VALUE=DURATION:PT1H
X-Robots-Tag:noindex
X-PUBLISHED-TTL:PT1H
BEGIN:VTIMEZONE
TZID:UTC
BEGIN:STANDARD
TZOFFSETFROM:+0000
TZOFFSETTO:+0000
TZNAME:UTC
DTSTART:20210101T000000
END:STANDARD
END:VTIMEZONE
BEGIN:VEVENT
DTSTART;VALUE=DATE:20220404
DTEND;VALUE=DATE:20220405
DTSTAMP:20260421T121734
CREATED:20220225T213402Z
LAST-MODIFIED:20220225T214123Z
UID:10000653-1649030400-1649116799@rockymountainpga.com
SUMMARY:Snake River Chapter Facility Championship
DESCRIPTION:Snake River Chapter Facility Championship\nPresented by Bridgestone\, ROLEX\, and The PGA TOUR \nQuail Hollow Golf Club – Boise\, ID\nMonday\, April 4\, 2022 \nCLICK HERE to go to the BlueGolf Page for all Tournament Information and Entry \nCLICK HERE for a Printable Entry Information Page
URL:https://rockymountainpga.com/event/snake-river-chapter-facility-championship-2/
CATEGORIES:Snake River
END:VEVENT
BEGIN:VEVENT
DTSTART;VALUE=DATE:20220407
DTEND;VALUE=DATE:20220408
DTSTAMP:20260421T121734
CREATED:20220309T223411Z
LAST-MODIFIED:20220408T150812Z
UID:10000655-1649289600-1649375999@rockymountainpga.com
SUMMARY:The Club at SpurWing Pro-Ladies
DESCRIPTION:The Club at SpurWing Pro-Ladies\nMeridian\, ID\nThursday\, April 7\, 2022 \n18 Holes\, 2 Net; 11:00 Shotgun;\nTee Markers: Professionals – Black\, Women Professionals – Brown\,\nSenior Professionals – Silver\, Women Amateurs – Green;\nEntry Fees: Professionals – $100\, Amateurs – $100\,\n$65 to Purse and Sanction; Entry Includes: $18 Lunch\, $17 Golf Car\, Range; 28 Teams Max;\nForeTees Online Entry Only Dates: 8:00 a.m.; Members – 3/26\, Associates – 3/30;\n(208) 884-4445 Adam Martens / Todd Bindner \nCLICK HERE for Results
URL:https://rockymountainpga.com/event/the-club-at-spurwing-pro-ladies-3/
CATEGORIES:Snake River
END:VEVENT
BEGIN:VEVENT
DTSTART;VALUE=DATE:20220418
DTEND;VALUE=DATE:20220419
DTSTAMP:20260421T121734
CREATED:20220308T181609Z
LAST-MODIFIED:20220421T183207Z
UID:10000654-1650240000-1650326399@rockymountainpga.com
SUMMARY:Larry Malone Scholarship Pro-Am
DESCRIPTION:Rocky Mountain Section PGA Foundation\nLarry Malone Scholarship Pro-Am \nHillcrest Country Club – Boise\, ID\nMonday\, April 18\, 2022 \nCLICK HERE for Results \nCLICK HERE for printable event information. \nProfessional must enter with team through ForeTees Only beginning Wednesday\, March 9\, 2022.\nCLICK HERE for the ForeTees online entry portal. \nCLICK HERE to Make a Donation to the RMSPGA Foundation. \nCLICK HERE for a Printable Donation Form.
URL:https://rockymountainpga.com/event/larry-malone-scholarship-pro-am-3/
CATEGORIES:Snake River
END:VEVENT
BEGIN:VEVENT
DTSTART;VALUE=DATE:20220418
DTEND;VALUE=DATE:20220420
DTSTAMP:20260421T121734
CREATED:20220309T231247Z
LAST-MODIFIED:20220413T174021Z
UID:10000657-1650240000-1650412799@rockymountainpga.com
SUMMARY:Yellowstone Chapter Pro-Pro
DESCRIPTION:Yellowstone Chapter Pro-Pro\nSupported by Bridgestone\, ROLEX\, and The PGA TOUR \nEvent cancelled due to inclement weather. \nHilands Golf Club – Billings\, MT\nMonday & Tuesday\, April 18-19\, 2022 \nCLICK HERE for Printable Entry Information \nCLICK HERE for the BlueGolf Portal\, Entry\, and all Tournament Information
URL:https://rockymountainpga.com/event/yellowstone-chapter-pro-pro-3/
CATEGORIES:Yellowstone
END:VEVENT
BEGIN:VEVENT
DTSTART;VALUE=DATE:20220421
DTEND;VALUE=DATE:20220422
DTSTAMP:20260421T121734
CREATED:20220309T232131Z
LAST-MODIFIED:20220309T232131Z
UID:10000658-1650499200-1650585599@rockymountainpga.com
SUMMARY:P.A.T. - Ridgecrest Golf Club
DESCRIPTION:PGA Player Ability Test\n\nThursday\, April 21\, 2022\nRidgecrest Golf Club\nNampa\, Idaho \nCLICK HERE for Information
URL:https://rockymountainpga.com/event/p-a-t-ridgecrest-golf-club-2/
CATEGORIES:PAT
END:VEVENT
BEGIN:VEVENT
DTSTART;VALUE=DATE:20220425
DTEND;VALUE=DATE:20220426
DTSTAMP:20260421T121734
CREATED:20220309T233314Z
LAST-MODIFIED:20220426T162031Z
UID:10000659-1650844800-1650931199@rockymountainpga.com
SUMMARY:Blue Lakes Open Pro-Am
DESCRIPTION:Blue Lakes Open presented by Coca-Cola\nTwin Falls\, ID\nMonday\, April 25\, 2022 \n18 Holes\, Chicago 3 of 4; 8:00 a.m. & 2:00 p.m. Shotguns\nTee Markers: Professionals – Blue\, Women Professionals – Red\,\nSenior Professionals – White\, Amateurs – White\, Lady Amateurs – Red \nEntry Fees: Professionals – $150\, Amateurs – $150\n$100 to Purse & Sanction\nEntry Includes: $25 Lunch\, $25 Golf Car/Range\, $2\,000 Added Money \n22 Teams per Shotgun Max – Shorts Permitted\nForeTees Online Entry Only Dates: Members – 4/13\, Associates – 4/17\n(208) 733-2337 – Mike Hamblin \nCLICK HERE for Results
URL:https://rockymountainpga.com/event/blue-lakes-open-pro-am/
CATEGORIES:Snake River
END:VEVENT
BEGIN:VEVENT
DTSTART;VALUE=DATE:20220425
DTEND;VALUE=DATE:20220426
DTSTAMP:20260421T121734
CREATED:20220309T235620Z
LAST-MODIFIED:20220426T163356Z
UID:10000660-1650844800-1650931199@rockymountainpga.com
SUMMARY:Hilands GC Pro-Am
DESCRIPTION:Hilands Golf Club Pro-Am\nBillings\, MT\nMonday\, April 25\, 2022 \n18 Holes\, 1G/2N; 8:15 a.m. & 1:45 p.m. Shotguns;\nTee Markers: Male Professionals – White/Red\, Women Professionals – Blue/Yellow\,\nAmateurs – White/Red\, Women Amateurs – Blue/Yellow\nEntry Fees: Professionals – $75\, Amateurs – $75\, All to Purse and Sanction;\nEntry Includes: Deuce Pot\, Skins\, UGC’s offered; 25 Teams Max;\nCall In Dates: Members – 3/25\, Associates – 3/25\, Amateur Team Captains – 3/27;\n(406) 259-0419 Eddie Kavran \nCLICK HERE for Results
URL:https://rockymountainpga.com/event/hilands-gc-pro-am/
CATEGORIES:Yellowstone
END:VEVENT
BEGIN:VEVENT
DTSTART;VALUE=DATE:20220429
DTEND;VALUE=DATE:20220430
DTSTAMP:20260421T121734
CREATED:20220310T000455Z
LAST-MODIFIED:20220510T153845Z
UID:10000841-1651190400-1651276799@rockymountainpga.com
SUMMARY:Jerome CC Pro-Ladies
DESCRIPTION:Jerome Country Club Pro-Ladies\nJerome\, ID\nFriday\, April 29\, 2022 \n18 Holes\, 1G/1N; 10:00 Shotgun \nTee Markers: Professionals – Gold\, Women Professionals – Black\,\nSenior Professionals – Blue\, Amateurs – Blue\, Lady Amateurs – White \nEntry Fees: Professionals – $65\, Amateurs – $65\n$50 to Purse & Sanction\nEntry Includes: $15 Lunch \n24 Teams Max – Shorts Permitted\nForeTees On-line Entry Only Dates: Members – 4/17\, Associates – 4/21\n(208) 324-5281 – Troy Vitek \nCLICK HERE for Results
URL:https://rockymountainpga.com/event/jerome-cc-pro-ladies/
CATEGORIES:Snake River
END:VEVENT
END:VCALENDAR