BEGIN:VCALENDAR
VERSION:2.0
PRODID:-//Rocky Mountain Section PGA - ECPv6.15.20//NONSGML v1.0//EN
CALSCALE:GREGORIAN
METHOD:PUBLISH
X-WR-CALNAME:Rocky Mountain Section PGA
X-ORIGINAL-URL:https://rockymountainpga.com
X-WR-CALDESC:Events for Rocky Mountain Section PGA
REFRESH-INTERVAL;VALUE=DURATION:PT1H
X-Robots-Tag:noindex
X-PUBLISHED-TTL:PT1H
BEGIN:VTIMEZONE
TZID:UTC
BEGIN:STANDARD
TZOFFSETFROM:+0000
TZOFFSETTO:+0000
TZNAME:UTC
DTSTART:20200101T000000
END:STANDARD
END:VTIMEZONE
BEGIN:VEVENT
DTSTART;VALUE=DATE:20210907
DTEND;VALUE=DATE:20210908
DTSTAMP:20260420T055316
CREATED:20210129T231023Z
LAST-MODIFIED:20210908T194822Z
UID:10000774-1630972800-1631059199@rockymountainpga.com
SUMMARY:Idaho Falls Country Club Pro-Am
DESCRIPTION:Idaho Falls Country Club Pro-Am\nSupported by Construction Solutions Company\nIdaho Falls\, ID\nTuesday\, September 7\, 2021 \n18 Holes\, Chicago Best 3 of 4; 8:00 a.m. to 2:30 p.m. tee times\nTee Markers: Professionals – Black\, Women Professionals – White\,\nSenior Professionals – Blue\, Amateurs – Blue\, Lady Amateurs – Red\nEntry Fees: Professionals $75\, Amateurs $75\n$75 to Purse & Sanction\nEntry Includes: Added Money\, Lunch\, Range\, $15 Optional Golf Car\n40 Teams Max – Shorts Permitted \nForeTees Online Entry Only Dates: Members 8/26\, Associates 8/30\n(208) 523-5762 – Jason Jacobsen \nCLICK HERE for Results
URL:https://rockymountainpga.com/event/idaho-falls-country-club-pro-am/
CATEGORIES:Snake River
END:VEVENT
BEGIN:VEVENT
DTSTART;VALUE=DATE:20210911
DTEND;VALUE=DATE:20210913
DTSTAMP:20260420T055316
CREATED:20210129T231240Z
LAST-MODIFIED:20220413T194925Z
UID:10000775-1631318400-1631491199@rockymountainpga.com
SUMMARY:Gallatin Valley Open
DESCRIPTION:Gallatin Valley Open\nCottonwood Hills Golf Course – Bozeman\, MT\nSaturday & Sunday\, September 11-12\, 2021 \nCLICK HERE for Professional Results
URL:https://rockymountainpga.com/event/gallatin-valley-open-2/
CATEGORIES:Section,Yellowstone
END:VEVENT
BEGIN:VEVENT
DTSTART;VALUE=DATE:20210913
DTEND;VALUE=DATE:20210914
DTSTAMP:20260420T055316
CREATED:20210129T231346Z
LAST-MODIFIED:20210914T163753Z
UID:10000776-1631491200-1631577599@rockymountainpga.com
SUMMARY:Whitetail Golf Club Pro-Am
DESCRIPTION:Whitetail Golf Club Pro-Am\nMcCall\, ID\nMonday\, September 13\, 2021 \n18 Holes\, Chicago; 10:00 a.m. – 2:00 p.m. Starting Times;\nTee Markers: Professionals – Black\, Women Professionals – White\, Senior Professionals – Rust\,\nAmateurs – Rust\, Women Amateurs – Gold;\nEntry Fees: Professionals – $130\, Amateurs – $130\, $90 to Purse and Sanction;\nEntry Includes: $31.50 Lunch (Lunch available for pick-up from 11 a.m. to 3:00 p.m.)\,\n$8.50 Sales Tax; 25 Teams Max;\nForeTees Online Entry Only Dates: 8:00 a.m.; Members – 9/1\, Associates – 9/5;\n(208) 630-0211 Eugene Bonfilio \nCLICK HERE for Results \n 
URL:https://rockymountainpga.com/event/whitetail-golf-club-pro-am/
CATEGORIES:Snake River
END:VEVENT
BEGIN:VEVENT
DTSTART;VALUE=DATE:20210913
DTEND;VALUE=DATE:20210914
DTSTAMP:20260420T055316
CREATED:20210129T231524Z
LAST-MODIFIED:20210914T151609Z
UID:10000777-1631491200-1631577599@rockymountainpga.com
SUMMARY:Hilands Golf Club Pro-Am
DESCRIPTION:Hilands Golf Club Pro-Am\nBillings\, MT\nMonday\, September 13\, 2021 \n18 Holes\, 1G/2N; 8:15 a.m. & 1:45 p.m. Shotguns;\nTee Markers: Professionals – White/Red\, Amateurs – White/Red\, Lady Amateurs – Blue/Yellow\nEntry Fees: Professionals – $70\, Amateurs – $65\, All to Purse and Sanction;\nEntry Includes: Deuce Pot\, Skins\, UGC’s offered; 25 Teams Max;\nCall In Dates: Members – 8/13\, Associates – 8/13\, Amateur Team Captains – 8/17;\n(406) 259-0419 Eddie Kavran \nCLICK HERE for Results
URL:https://rockymountainpga.com/event/hilands-golf-club-pro-am-6/
CATEGORIES:Yellowstone
END:VEVENT
BEGIN:VEVENT
DTSTART;VALUE=DATE:20210916
DTEND;VALUE=DATE:20210917
DTSTAMP:20260420T055316
CREATED:20210129T231716Z
LAST-MODIFIED:20210129T231716Z
UID:10000778-1631750400-1631836799@rockymountainpga.com
SUMMARY:Idaho Open Pro-Am Invitational
DESCRIPTION:Idaho Open Pro-Am Invitational\nQuail Hollow Golf Club – Boise\, ID\nThursday\, September 16\, 2021 \nBy Invitation Only
URL:https://rockymountainpga.com/event/idaho-open-pro-am-invitational/
CATEGORIES:Section
END:VEVENT
BEGIN:VEVENT
DTSTART;VALUE=DATE:20210917
DTEND;VALUE=DATE:20210920
DTSTAMP:20260420T055316
CREATED:20210129T231817Z
LAST-MODIFIED:20210913T201933Z
UID:10000779-1631836800-1632095999@rockymountainpga.com
SUMMARY:Idaho Open presented by First Tee of Idaho
DESCRIPTION:Idaho Open presented by First Tee of Idaho\nQuail Hollow Golf Club\nBoise\, ID \nFriday – Sunday\, September 17-19\, 2021 \nCLICK HERE for the BlueGolf Page for Tournament Information Including Starting Times
URL:https://rockymountainpga.com/event/idaho-open-2/
CATEGORIES:Section
END:VEVENT
BEGIN:VEVENT
DTSTART;VALUE=DATE:20210922
DTEND;VALUE=DATE:20210923
DTSTAMP:20260420T055316
CREATED:20210119T192209Z
LAST-MODIFIED:20210119T192209Z
UID:10000712-1632268800-1632355199@rockymountainpga.com
SUMMARY:P.A.T. - Warm Springs Golf Course
DESCRIPTION:PGA Player Ability Test\nWednesday\, September 22\, 2021\nWarm Springs Golf Course\nBoise\, Idaho \nCLICK HERE for Information
URL:https://rockymountainpga.com/event/p-a-t-warm-springs-golf-course/
CATEGORIES:PAT
END:VEVENT
BEGIN:VEVENT
DTSTART;VALUE=DATE:20210927
DTEND;VALUE=DATE:20210928
DTSTAMP:20260420T055316
CREATED:20210129T232310Z
LAST-MODIFIED:20210927T231547Z
UID:10000781-1632700800-1632787199@rockymountainpga.com
SUMMARY:Jerome Country Club Pro-Am
DESCRIPTION:Jerome Country Club Pro-Am\nJerome\, ID\nMonday\, September 27\, 2021 \n18 Holes\, 1G/1N; 10:00 Shotgun Start;\nTee Markers: Professionals – Gold\, Women Professionals – Black\, Senior Professionals – Blue\,\nAmateurs – Blue\, Women Amateurs – White; Entry Fees: Professionals – $80\, Amateurs – $80\,\nAll to Purse and Sanction; 28 Teams Max;\nForeTees Online Entry Only Dates: 8:00 a.m.; Members – 9/15\, Associates – 9/19;\n(208) 324-5281 Troy Vitek \nCLICK HERE for Results
URL:https://rockymountainpga.com/event/jerome-country-club-pro-am-3/
CATEGORIES:Snake River
END:VEVENT
BEGIN:VEVENT
DTSTART;VALUE=DATE:20210927
DTEND;VALUE=DATE:20210929
DTSTAMP:20260420T055316
CREATED:20210129T232148Z
LAST-MODIFIED:20210929T134510Z
UID:10000780-1632700800-1632873599@rockymountainpga.com
SUMMARY:Yellowstone Chapter Championship
DESCRIPTION:2021 JC Golf Accessories Yellowstone Chapter PGA Championship\nBridger Creek Golf Course – Bozeman\, MT\nMonday & Tuesday\, September 27-28\, 2021 \nCLICK HERE for Results
URL:https://rockymountainpga.com/event/yellowstone-chapter-championship-3/
CATEGORIES:Section,Yellowstone
END:VEVENT
END:VCALENDAR