BEGIN:VCALENDAR
VERSION:2.0
PRODID:-//Rocky Mountain Section PGA - ECPv6.15.20//NONSGML v1.0//EN
CALSCALE:GREGORIAN
METHOD:PUBLISH
X-WR-CALNAME:Rocky Mountain Section PGA
X-ORIGINAL-URL:https://rockymountainpga.com
X-WR-CALDESC:Events for Rocky Mountain Section PGA
REFRESH-INTERVAL;VALUE=DURATION:PT1H
X-Robots-Tag:noindex
X-PUBLISHED-TTL:PT1H
BEGIN:VTIMEZONE
TZID:UTC
BEGIN:STANDARD
TZOFFSETFROM:+0000
TZOFFSETTO:+0000
TZNAME:UTC
DTSTART:20190101T000000
END:STANDARD
END:VTIMEZONE
BEGIN:VEVENT
DTSTART;VALUE=DATE:20201005
DTEND;VALUE=DATE:20201007
DTSTAMP:20260422T111715
CREATED:20200819T121841Z
LAST-MODIFIED:20200930T231717Z
UID:10000700-1601856000-1602028799@rockymountainpga.com
SUMMARY:TAYLORMADE GOLF RMSPGA PRO-PRO SHOOTOUT
DESCRIPTION:TaylorMade Golf  RMSPGA Pro-Pro Shootout\nSupported by The PGA TOUR\, OMEGA\, Bushnell\,\nJC Golf Accessories and Dynamic Brands \nIdaho Falls Country Club – Idaho Falls\, Idaho \nCLICK HERE for Access to the BlueGolf Site and Tournament Information
URL:https://rockymountainpga.com/event/taylormade-golf-rmspga-pro-pro-shootout/
CATEGORIES:Section
END:VEVENT
BEGIN:VEVENT
DTSTART;VALUE=DATE:20201012
DTEND;VALUE=DATE:20201014
DTSTAMP:20260422T111715
CREATED:20200131T002545Z
LAST-MODIFIED:20201013T232101Z
UID:10000676-1602460800-1602633599@rockymountainpga.com
SUMMARY:Snake River Chapter Match Play Championship
DESCRIPTION:Snake River Chapter Match Play Championship\nsupported by Bridgestone Golf\, Dynamic Brands\, OMEGA & The PGA TOUR \nMonday & Tuesday\, October 12-13\, 2020\nBlue Lakes Country Club – Twin Falls\, ID \nCLICK HERE for the BlueGolf page and all Match results.
URL:https://rockymountainpga.com/event/snake-river-chapter-match-play-championship/
CATEGORIES:Snake River
END:VEVENT
BEGIN:VEVENT
DTSTART;VALUE=DATE:20201019
DTEND;VALUE=DATE:20201020
DTSTAMP:20260422T111715
CREATED:20200130T225929Z
LAST-MODIFIED:20201020T204445Z
UID:10000645-1603065600-1603151999@rockymountainpga.com
SUMMARY:Ridgecrest Golf Club Pro-Am
DESCRIPTION:Ridgecrest Golf Course Pro-Am\nNampa\, ID\nMonday\, October 19\, 2020\n18 Holes\, 1G/1N; 8:30 a.m. to 1:30 p.m. Tee Times\nTee Markers: Professionals – White\, Women Professionals – Gold\,\nSenior Professionals – Black\, Amateurs – Black\, Lady Amateurs – Blue\n31 Teams Max – Shorts Permitted\nForeTees On-line Entry Only Dates: Members – 10/7\, Associates – 10/11\n(208) 468-5888 – Scott Nicholes \nCLICK HERE for Results
URL:https://rockymountainpga.com/event/ridgecrest-golf-club-pro-am/
CATEGORIES:Snake River
END:VEVENT
BEGIN:VEVENT
DTSTART;VALUE=DATE:20201020
DTEND;VALUE=DATE:20201021
DTSTAMP:20260422T111715
CREATED:20200131T002717Z
LAST-MODIFIED:20201014T192910Z
UID:10000678-1603152000-1603238399@rockymountainpga.com
SUMMARY:Yellowstone Chapter Fall Meeting & Education Seminars
DESCRIPTION:Yellowstone Chapter Fall Meeting & Education Seminars \nTuesday\, October 20\, 2020\nRiverside Country Club – Bozeman\, MT \nCLICK HERE for a Schedule of Events \nCLICK HERE to Register through BlueGolf
URL:https://rockymountainpga.com/event/yellowstone-chapter-fall-meeting-2/
CATEGORIES:Education Meetings
END:VEVENT
BEGIN:VEVENT
DTSTART;VALUE=DATE:20201022
DTEND;VALUE=DATE:20201023
DTSTAMP:20260422T111715
CREATED:20200130T225702Z
LAST-MODIFIED:20201024T033306Z
UID:10000644-1603324800-1603411199@rockymountainpga.com
SUMMARY:Crane Creek Country Club Pro-Ladies
DESCRIPTION:Crane Creek Country Club Pro-Ladies\nBoise\, ID\nThursday\, October 22\, 2020\n18 Holes\, 1G/1N; Tee Times 10:00 a.m. – 1:30 p.m.\nTee Markers: Professionals – Black\, Women Professionals – White\,\nSenior Professionals – Blue\, Amateurs – Blue\, Lady Amateurs – Green\nEntry Fees: Professionals – $85\, Amateurs – $85\n$65 to Purse & Sanction\nEntry Includes: $20 Lunch\, $20 Optional Golf Car (Max 2/group)\n22 Teams Max – Shorts Permitted\nForeTees On-line Entry Only Dates: Members – 10/10\, Associates – 10/14\n(208) 514-4359 – Ron Rawls \nCLICK HERE for Results
URL:https://rockymountainpga.com/event/crane-creek-country-club-pro-ladies/
CATEGORIES:Snake River
END:VEVENT
BEGIN:VEVENT
DTSTART;VALUE=DATE:20201030
DTEND;VALUE=DATE:20201031
DTSTAMP:20260422T111715
CREATED:20200130T230336Z
LAST-MODIFIED:20201031T004737Z
UID:10000646-1604016000-1604102399@rockymountainpga.com
SUMMARY:Jerome Country Club Pro-Am
DESCRIPTION:Jerome Country Club Pro-Am\nJerome\, ID\nFriday\, October 30\, 2020\n18 Holes\, 2N; 10:30 Shotgun\nTee Markers: Professionals – Gold\, Women Professionals – Black\,\nSenior Professionals – Blue\, Amateurs – Blue\, Lady Amateurs – White\nEntry Fees: Professionals – $80\, Amateurs – $80\n$80 to Purse & Sanction\nEntry Includes: All to Purse & Sanction\n28 Teams Max – Shorts Permitted\nPLEASE CALL THE GOLF SHOP TO ENTER\n(208) 324-5281 – Troy Vitek \nCLICK HERE for Results
URL:https://rockymountainpga.com/event/jerome-country-club-pro-am/
CATEGORIES:Snake River
END:VEVENT
END:VCALENDAR