BEGIN:VCALENDAR
VERSION:2.0
PRODID:-//Rocky Mountain Section PGA - ECPv6.15.20//NONSGML v1.0//EN
CALSCALE:GREGORIAN
METHOD:PUBLISH
X-WR-CALNAME:Rocky Mountain Section PGA
X-ORIGINAL-URL:https://rockymountainpga.com
X-WR-CALDESC:Events for Rocky Mountain Section PGA
REFRESH-INTERVAL;VALUE=DURATION:PT1H
X-Robots-Tag:noindex
X-PUBLISHED-TTL:PT1H
BEGIN:VTIMEZONE
TZID:UTC
BEGIN:STANDARD
TZOFFSETFROM:+0000
TZOFFSETTO:+0000
TZNAME:UTC
DTSTART:20190101T000000
END:STANDARD
END:VTIMEZONE
BEGIN:VEVENT
DTSTART;VALUE=DATE:20200518
DTEND;VALUE=DATE:20200520
DTSTAMP:20260423T033337
CREATED:20190219T160118Z
LAST-MODIFIED:20200511T154033Z
UID:10000512-1589760000-1589932799@rockymountainpga.com
SUMMARY:YELLOWSTONE CHAPTER PRO-PRO
DESCRIPTION:Yellowstone Chapter Pro-Pro\nsupported by Bridgestone\, OMEGA & The PGA TOUR \nMonday & Tuesday\, May 18-19\, 2020\nHilands Golf Club – Billings\, MT \nCLICK HERE for the BlueGolf page and all tournament information and entry. \n \n \n \n 
URL:https://rockymountainpga.com/event/yellowstone-chapter-pro-pro-2/
CATEGORIES:Yellowstone
END:VEVENT
BEGIN:VEVENT
DTSTART;VALUE=DATE:20200526
DTEND;VALUE=DATE:20200527
DTSTAMP:20260423T033337
CREATED:20200131T175643Z
LAST-MODIFIED:20200606T173303Z
UID:10000566-1590451200-1590537599@rockymountainpga.com
SUMMARY:Laurel Golf Club Pro-Ladies
DESCRIPTION:Laurel Golf Club Pro-Ladies\nTuesday\, May 26\, 2020\nLaurel\, MT \n18 Holes\, 2N; 9:00 a.m. Starting Times;\nTee Markers: Professionals – Blue\, Women Professionals – White; Amateurs – Gold;\nEntry Fees: Professionals – $70\, Amateurs – $65\, All to Purse and Sanction;\nEntry Includes: Range\, Deuce Pot\, Skins\, UGC’s offered; 25 Teams Max\nCall-In Dates: Members – 4/26\, Associates – 4/26\, Amateur Team Captains – 4/28;\n(406) 628-4504 Tom Anderson \nCLICK HERE for Edited Results
URL:https://rockymountainpga.com/event/laurel-golf-club-pro-ladies/
CATEGORIES:Yellowstone
END:VEVENT
END:VCALENDAR