BEGIN:VCALENDAR
VERSION:2.0
PRODID:-//Rocky Mountain Section PGA - ECPv6.15.20//NONSGML v1.0//EN
CALSCALE:GREGORIAN
METHOD:PUBLISH
X-WR-CALNAME:Rocky Mountain Section PGA
X-ORIGINAL-URL:https://rockymountainpga.com
X-WR-CALDESC:Events for Rocky Mountain Section PGA
REFRESH-INTERVAL;VALUE=DURATION:PT1H
X-Robots-Tag:noindex
X-PUBLISHED-TTL:PT1H
BEGIN:VTIMEZONE
TZID:UTC
BEGIN:STANDARD
TZOFFSETFROM:+0000
TZOFFSETTO:+0000
TZNAME:UTC
DTSTART:20180101T000000
END:STANDARD
END:VTIMEZONE
BEGIN:VEVENT
DTSTART;VALUE=DATE:20190505
DTEND;VALUE=DATE:20190506
DTSTAMP:20260419T210126
CREATED:20190411T000142Z
LAST-MODIFIED:20190411T001017Z
UID:10000619-1557014400-1557100799@rockymountainpga.com
SUMMARY:Drive\, Chip & Putt Local Qualifying
DESCRIPTION:Ridgecrest Golf Club – Nampa\, Idaho \nCLICK HERE for more information
URL:https://rockymountainpga.com/event/drive-chip-putt-local-qualifying/
CATEGORIES:Section,Snake River,Yellowstone
END:VEVENT
BEGIN:VEVENT
DTSTART;VALUE=DATE:20190506
DTEND;VALUE=DATE:20190507
DTSTAMP:20260419T210126
CREATED:20190219T160119Z
LAST-MODIFIED:20190509T191810Z
UID:10000514-1557100800-1557187199@rockymountainpga.com
SUMMARY:Laurel Golf Club Scholarship Pro-Am
DESCRIPTION:18 Holes\, 1G/2N; 8:00 a.m. Starting Times Both Sides;\nTee Markers: Professionals – Blue\, Women Professionals – White\, Amateurs – Blue; Tee-it-FORWARD\nEntry Fees: Professionals – $80\, Amateurs – $75\, $70/$65 to Purse and Sanction;\nEntry Includes: $10 Scholarship Donation\, Range\, Deuce Pot\, Skins\, UGC’s offered; 50 Teams Max;\nCall In Dates: Members – 3/15\, Associates – 3/15\, Amateur Team Captains – 3/17\n(406) 628-4504 Tom Anderson \nCLICK HERE for results
URL:https://rockymountainpga.com/event/laurel-golf-club-scholarship-pro-am/
CATEGORIES:Yellowstone
END:VEVENT
BEGIN:VEVENT
DTSTART;VALUE=DATE:20190506
DTEND;VALUE=DATE:20190508
DTSTAMP:20260419T210126
CREATED:20190219T160100Z
LAST-MODIFIED:20190508T210739Z
UID:10000530-1557100800-1557273599@rockymountainpga.com
SUMMARY:Jackpot Golf Club Pro-Scratch presented by Cactus Pete's Resort Casino
DESCRIPTION:36 Holes\, 1G; 1:00 p.m. & 10:00 a.m. Shotguns;\nTee Markers: Professionals – Blue\, Women Professionals – Red\, Senior Professionals – White\,\nAmateurs – White\, Women Amateurs – Red; Entry Fees: Professionals – $175\, Amateurs – $175\,\n$145 to Purse and Sanction; Entry Includes: $2\,000 Added\, $28 Golf Car\, $2 Range; 56 Teams Max;\nForeTees On-line Entry Only Dates: 8:00 a.m.; Members – 4/24\, Associates – 4/28;\n(775) 755-2260 Brent Fleshman \nLogin to ForeTees for online entry \nCLICK HERE for results
URL:https://rockymountainpga.com/event/jackpot-golf-club-pro-scratch-2/
CATEGORIES:Snake River
END:VEVENT
BEGIN:VEVENT
DTSTART;VALUE=DATE:20190513
DTEND;VALUE=DATE:20190514
DTSTAMP:20260419T210126
CREATED:20190219T160100Z
LAST-MODIFIED:20190514T165008Z
UID:10000531-1557705600-1557791999@rockymountainpga.com
SUMMARY:RedHawk Golf Course Pro-Am
DESCRIPTION:18 Holes\, 1G/1N; 8:00 a.m. Starting Times;\nTee Markers: Professionals – Black\, Women Professionals – White\, Senior Professionals – Blue\,\nAmateurs – Blue\, Women Amateurs – Red\, Tee-it-FORWARD; 24 Teams Max;\nEntry Fees: Professionals – $85\, Amateurs – $85\, $70 to Purse and Sanction; Entry Includes: $15 Golf Car;\nForeTees On-line Entry Only Dates: 8:00 a.m.; Members – 5/1\, Associates – 5/5;\n(208) 461-4295 Marc Vedder \nLogin to ForeTees for online entry \nCLICK HERE for results
URL:https://rockymountainpga.com/event/redhawk-golf-course-pro-am-2/
LOCATION:Nampa\, ID
CATEGORIES:Snake River
END:VEVENT
BEGIN:VEVENT
DTSTART;VALUE=DATE:20190513
DTEND;VALUE=DATE:20190514
DTSTAMP:20260419T210126
CREATED:20190219T160119Z
LAST-MODIFIED:20190514T165927Z
UID:10000513-1557705600-1557791999@rockymountainpga.com
SUMMARY:Hilands Golf Club Pro-Am
DESCRIPTION:18 Holes\, 1G/2N; 8:15 a.m. & 1:45 p.m. Shotguns;\nTee Markers: Professionals – White/Red\, Amateurs – White/Red\, Lady Amateurs – Blue/Yellow\nEntry Fees: Professionals – $70\, Amateurs – $65\, All to Purse and Sanction;\nEntry Includes: Deuce Pot\, Skins\, UGC’s offered; 25 Teams Max;\nCall In Dates: Members – 4/13\, Associates – 4/13\, Amateur Team Captains – 4/17;\n(406) 259-0419 Eddie Kavran \nCLICK HERE for team entry form \nCLICK HERE for results
URL:https://rockymountainpga.com/event/hilands-golf-club-pro-am-3/
CATEGORIES:Yellowstone
END:VEVENT
BEGIN:VEVENT
DTSTART;VALUE=DATE:20190519
DTEND;VALUE=DATE:20190520
DTSTAMP:20260419T210126
CREATED:20190219T160100Z
LAST-MODIFIED:20190219T160100Z
UID:10000533-1558224000-1558310399@rockymountainpga.com
SUMMARY:RMSPGA ANNUAL MEETING
DESCRIPTION:The Residence Inn – Idaho Falls\, Idaho
URL:https://rockymountainpga.com/event/rmspga-annual-meeting/
CATEGORIES:Education Meetings
END:VEVENT
BEGIN:VEVENT
DTSTART;VALUE=DATE:20190520
DTEND;VALUE=DATE:20190522
DTSTAMP:20260419T210126
CREATED:20190219T160100Z
LAST-MODIFIED:20200819T121419Z
UID:10000535-1558310400-1558483199@rockymountainpga.com
SUMMARY:TAYLORMADE GOLF RMSPGA PRO-PRO SHOOTOUT
DESCRIPTION:TaylorMade Golf  RMSPGA Pro-Pro Shootout\npresented by adidas\nand supported by The PGA TOUR\, OMEGA\, Bushnell and JC Golf Accessories \nPinecrest Golf Course – Idaho Falls\, Idaho \nCLICK HERE for the BlueGolf page and all tournament information. \n \n\n \n 
URL:https://rockymountainpga.com/event/rmspga-pro-pro-shootout/
CATEGORIES:Section
END:VEVENT
BEGIN:VEVENT
DTSTART;VALUE=DATE:20190522
DTEND;VALUE=DATE:20190523
DTSTAMP:20260419T210126
CREATED:20190219T160127Z
LAST-MODIFIED:20190219T160127Z
UID:10000614-1558483200-1558569599@rockymountainpga.com
SUMMARY:P.A.T.
DESCRIPTION:Rupert Country Club – Rupert\, Idaho
URL:https://rockymountainpga.com/event/p-a-t-2/
CATEGORIES:PAT
END:VEVENT
BEGIN:VEVENT
DTSTART;VALUE=DATE:20190528
DTEND;VALUE=DATE:20190529
DTSTAMP:20260419T210126
CREATED:20190219T160119Z
LAST-MODIFIED:20190529T172356Z
UID:10000515-1559001600-1559087999@rockymountainpga.com
SUMMARY:Laurel Golf Club Pro-Ladies
DESCRIPTION:18 Holes\, 2N; 9:00 a.m. Starting Times;\nTee Markers: Professionals – Blue\, Women Professionals – White; Amateurs – Gold;\nEntry Fees: Professionals – $70\, Amateurs – $65\, All to Purse and Sanction;\nEntry Includes: Range\, Deuce Pot\, Skins\, UGC’s offered; 25 Teams Max\nCall-In Dates: Members – 4/14\, Associates – 4/14\, Amateur Team Captains – 4/16;\n(406) 628-4504 Tom Anderson \nCLICK HERE for team entry form. \nCLICK HERE for results.
URL:https://rockymountainpga.com/event/laurel-golf-club-pro-ladies-2/
CATEGORIES:Yellowstone
END:VEVENT
BEGIN:VEVENT
DTSTART;VALUE=DATE:20190528
DTEND;VALUE=DATE:20190530
DTSTAMP:20260419T210126
CREATED:20190219T160101Z
LAST-MODIFIED:20190530T161741Z
UID:10000537-1559001600-1559174399@rockymountainpga.com
SUMMARY:Sun Valley Resort/Elkhorn Golf Club Pro-Am
DESCRIPTION:36 Holes\, 1G/1N; 9:00-11:00 Split Tee Starting Times;\nTee Markers: Professionals – Black\, Women Professionals – Green\, Senior Professionals – White\,\nAmateurs – White\, Women Ams – Red; Entry Fees: Professionals – $300\, Amateurs – $300\, $200 to Purse and\nSanction; Entry Includes: $1\,500 Added\, $40 Cart\, $60 Course Usage; 26 Teams Max;\nForeTees On-line Entry Only Dates: 8:00 a.m.; Members – 5/16\, Associates – 5/20;\n(208) 622-2251 Tate Mills – Dominick Conti \nPlease note the Sun Valley Lodge has double occupancy Queen suite’s available for $179/night.\nJust mention “Pro-Am” when calling 1-800-786-8259. \nLogin to ForeTees for online entry \nCLICK HERE for results.
URL:https://rockymountainpga.com/event/sun-valley-resort-elkhorn-golf-club-pro-am-2/
CATEGORIES:Snake River
END:VEVENT
END:VCALENDAR