BEGIN:VCALENDAR
VERSION:2.0
PRODID:-//Rocky Mountain Section PGA - ECPv6.15.20//NONSGML v1.0//EN
CALSCALE:GREGORIAN
METHOD:PUBLISH
X-WR-CALNAME:Rocky Mountain Section PGA
X-ORIGINAL-URL:https://rockymountainpga.com
X-WR-CALDESC:Events for Rocky Mountain Section PGA
REFRESH-INTERVAL;VALUE=DURATION:PT1H
X-Robots-Tag:noindex
X-PUBLISHED-TTL:PT1H
BEGIN:VTIMEZONE
TZID:UTC
BEGIN:STANDARD
TZOFFSETFROM:+0000
TZOFFSETTO:+0000
TZNAME:UTC
DTSTART:20250101T000000
END:STANDARD
END:VTIMEZONE
BEGIN:VEVENT
DTSTART;VALUE=DATE:20260420
DTEND;VALUE=DATE:20260422
DTSTAMP:20260420T072055
CREATED:20260305T191132Z
LAST-MODIFIED:20260413T203924Z
UID:10001350-1776643200-1776815999@rockymountainpga.com
SUMMARY:Yellowstone Chapter Pro-Pro
DESCRIPTION:Yellowstone Chapter Pro-Pro\nSupported by Bridgestone\, TRUE linkswear\, GT Golf Supply\,\nHELPSIDE\, Sterling Cut Glass\, Maui Jim\,\nROLEX\, and The PGA TOUR \nHilands Golf Club – Billings\, MT\nMonday & Tuesday\, April 20-21\, 2026 \nCLICK HERE for Printable Tournament Information \nCLICK HERE to Enter
URL:https://rockymountainpga.com/event/yellowstone-chapter-pro-pro-7/
CATEGORIES:Yellowstone
END:VEVENT
BEGIN:VEVENT
DTSTART;VALUE=DATE:20260427
DTEND;VALUE=DATE:20260428
DTSTAMP:20260420T072055
CREATED:20260204T221313Z
LAST-MODIFIED:20260204T221313Z
UID:10001247-1777248000-1777334399@rockymountainpga.com
SUMMARY:Hilands GC Spring Pro-Am
DESCRIPTION:Hilands Golf Club Spring Pro-Am\nBillings\, MT\nMonday\, April 27\, 2026 \n18 Holes\, 1G/1N; 8:15 a.m. & 1:30 p.m. Shotguns\nTee Markers: Male Professionals – White/Red\, Women Professionals – Blue/Yellow\,\nAmateurs – White/Red\, Women Amateurs – Blue/Yellow\nEntry Fees: Professionals – $75\, Amateurs – $75\, All to Purse and Sanction\nEntry Includes: Range\, Deuce Pot\, Skins; 25 Teams Max\nCLICK HERE for Golf Genius Entry – Dates: 8:00 a.m. – Professionals 4/14\, Amateur Team Captains – 4/17\n(406) 259-0419 Eddie Kavran
URL:https://rockymountainpga.com/event/hilands-gc-spring-pro-am/
CATEGORIES:Yellowstone
END:VEVENT
END:VCALENDAR