BEGIN:VCALENDAR
VERSION:2.0
PRODID:-//Rocky Mountain Section PGA - ECPv6.15.20//NONSGML v1.0//EN
CALSCALE:GREGORIAN
METHOD:PUBLISH
X-WR-CALNAME:Rocky Mountain Section PGA
X-ORIGINAL-URL:https://rockymountainpga.com
X-WR-CALDESC:Events for Rocky Mountain Section PGA
REFRESH-INTERVAL;VALUE=DURATION:PT1H
X-Robots-Tag:noindex
X-PUBLISHED-TTL:PT1H
BEGIN:VTIMEZONE
TZID:UTC
BEGIN:STANDARD
TZOFFSETFROM:+0000
TZOFFSETTO:+0000
TZNAME:UTC
DTSTART:20250101T000000
END:STANDARD
END:VTIMEZONE
BEGIN:VEVENT
DTSTART;VALUE=DATE:20260615
DTEND;VALUE=DATE:20260616
DTSTAMP:20260423T140938
CREATED:20260303T184841Z
LAST-MODIFIED:20260303T191352Z
UID:10001274-1781481600-1781567999@rockymountainpga.com
SUMMARY:Bridger Creek Pro-Am
DESCRIPTION:Bridger Creek Golf Course Pro-Am\nBozeman\, MT\nMonday\, June 15\, 2026 \n18 Holes\, 1G/1N; 9:00a.m. Starting Times\nTee Markers: Professionals – White\, Women Professionals – Gold\, Senior Professionals – White\nAmateurs – White\, Women Ams – Red\, Tee-it-FORWARD\n\nEntry Fees: Professionals – $75\, Amateurs – $75\, All to Purse and Sanction\nEntry Includes: Range\, Deuce Pot\, Skins; 24 Teams Max \nGolf Genius Entry: Professionals – 6/2\, Amateur Team Captains – 6/5\n(406) 586-2333   Jon McAleer
URL:https://rockymountainpga.com/event/bridger-creek-pro-am-5/
CATEGORIES:Yellowstone
END:VEVENT
END:VCALENDAR