BEGIN:VCALENDAR
VERSION:2.0
PRODID:-//Rocky Mountain Section PGA - ECPv6.15.20//NONSGML v1.0//EN
CALSCALE:GREGORIAN
METHOD:PUBLISH
X-ORIGINAL-URL:https://rockymountainpga.com
X-WR-CALDESC:Events for Rocky Mountain Section PGA
REFRESH-INTERVAL;VALUE=DURATION:PT1H
X-Robots-Tag:noindex
X-PUBLISHED-TTL:PT1H
BEGIN:VTIMEZONE
TZID:UTC
BEGIN:STANDARD
TZOFFSETFROM:+0000
TZOFFSETTO:+0000
TZNAME:UTC
DTSTART:20240101T000000
END:STANDARD
END:VTIMEZONE
BEGIN:VEVENT
DTSTART;VALUE=DATE:20250729
DTEND;VALUE=DATE:20250730
DTSTAMP:20260422T193835
CREATED:20250228T003032Z
LAST-MODIFIED:20250730T164331Z
UID:10001149-1753747200-1753833599@rockymountainpga.com
SUMMARY:Valley View Pro-Ladies
DESCRIPTION:Valley View Golf Club Pro-Ladies\nBozeman\, MT\nTuesday\, July 29\, 2025 \n18 Holes\, 2N; 8:30 a.m. Starting Times\nTee Markers: Professionals – White\, Women Professionals – Yellow\, Sr. Professionals\, White – Lady Ams – Red\nEntry Fees: Professionals – $75\, Amateurs – $75; All to Purse and Sanction\nEntry Includes: Range\, Deuce Pot\, Skins; 50 Teams Max\nCLICK HERE for Golf Genius Entry: Professionals 7/16\, Amateur Team Captains – 7/19\n(406) 586-2145  Ted Babcock \nCLICK HERE for Final Results
URL:https://rockymountainpga.com/event/valley-view-pro-ladies/
CATEGORIES:Yellowstone
END:VEVENT
END:VCALENDAR