BEGIN:VCALENDAR
VERSION:2.0
PRODID:-//Rocky Mountain Section PGA - ECPv6.15.20//NONSGML v1.0//EN
CALSCALE:GREGORIAN
METHOD:PUBLISH
X-WR-CALNAME:Rocky Mountain Section PGA
X-ORIGINAL-URL:https://rockymountainpga.com
X-WR-CALDESC:Events for Rocky Mountain Section PGA
REFRESH-INTERVAL;VALUE=DURATION:PT1H
X-Robots-Tag:noindex
X-PUBLISHED-TTL:PT1H
BEGIN:VTIMEZONE
TZID:UTC
BEGIN:STANDARD
TZOFFSETFROM:+0000
TZOFFSETTO:+0000
TZNAME:UTC
DTSTART:20230101T000000
END:STANDARD
END:VTIMEZONE
BEGIN:VEVENT
DTSTART;VALUE=DATE:20240429
DTEND;VALUE=DATE:20240430
DTSTAMP:20260423T203129
CREATED:20240125T225754Z
LAST-MODIFIED:20240430T183911Z
UID:10000789-1714348800-1714435199@rockymountainpga.com
SUMMARY:Hilands Pro-Am
DESCRIPTION:Hilands Golf Club Pro-Am\nBillings\, MT\nMonday\, April 29\, 2024 \n18 Holes\, 1G/1N; 8:15 a.m. & 1:45 p.m. Shotguns\nTee Markers: Male Professionals – White/Red\, Women Professionals – Blue/Yellow\,\nAmateurs – White/Red\, Women Amateurs – Blue/Yellow\nEntry Fees: Professionals – $75\, Amateurs – $75\, All to Purse and Sanction\nEntry Includes: Range\, Deuce Pot\, Skins; 25 Teams Max\nGolf Genius Entry Dates: Professionals 4/16\, Amateur Team Captains – 4/19\n(406) 259-0419 Eddie Kavran \nCLICK HERE for Golf Genius Results \nCLICK HERE for Final Results
URL:https://rockymountainpga.com/event/hilands-pro-am-2/
CATEGORIES:Yellowstone
END:VEVENT
END:VCALENDAR