BEGIN:VCALENDAR
VERSION:2.0
PRODID:-//Rocky Mountain Section PGA - ECPv6.15.20//NONSGML v1.0//EN
CALSCALE:GREGORIAN
METHOD:PUBLISH
X-WR-CALNAME:Rocky Mountain Section PGA
X-ORIGINAL-URL:https://rockymountainpga.com
X-WR-CALDESC:Events for Rocky Mountain Section PGA
REFRESH-INTERVAL;VALUE=DURATION:PT1H
X-Robots-Tag:noindex
X-PUBLISHED-TTL:PT1H
BEGIN:VTIMEZONE
TZID:UTC
BEGIN:STANDARD
TZOFFSETFROM:+0000
TZOFFSETTO:+0000
TZNAME:UTC
DTSTART:20220101T000000
END:STANDARD
END:VTIMEZONE
BEGIN:VEVENT
DTSTART;VALUE=DATE:20230626
DTEND;VALUE=DATE:20230627
DTSTAMP:20260420T204922
CREATED:20230130T214544Z
LAST-MODIFIED:20230627T170603Z
UID:10000908-1687737600-1687823999@rockymountainpga.com
SUMMARY:Valley View GC Pro-Am
DESCRIPTION:Valley View Golf Club Pro-Am\nBozeman\, MT\nMonday\, June 26\, 2023 \n18 Holes\, 1G/1N; 8:00 a.m. Starting Times;\nTee Markers: Professionals – Blue\, Women Professionals – Gold\, Sr. Professionals/Amateurs – Blue\,\nLady Amateurs – Red\, Tee-it-FORWARD;\nEntry Fees: Professionals – $75\, Amateurs – $75\, All to Purse and Sanction;\nEntry Includes: Range\, Deuce Pot\, Skins; 32Teams Max;\nCLICK HERE for Golf Genius Entry: Members – 6/13\, Associates – 6/13\, Amateur Team Captains – 6/16;\n(406) 586-2145  Ted Babcock \nCLICK HERE for Results
URL:https://rockymountainpga.com/event/valley-view-gc-pro-am-2/
CATEGORIES:Yellowstone
END:VEVENT
END:VCALENDAR