BEGIN:VCALENDAR
VERSION:2.0
PRODID:-//Rocky Mountain Section PGA - ECPv6.15.20//NONSGML v1.0//EN
CALSCALE:GREGORIAN
METHOD:PUBLISH
X-ORIGINAL-URL:https://rockymountainpga.com
X-WR-CALDESC:Events for Rocky Mountain Section PGA
REFRESH-INTERVAL;VALUE=DURATION:PT1H
X-Robots-Tag:noindex
X-PUBLISHED-TTL:PT1H
BEGIN:VTIMEZONE
TZID:UTC
BEGIN:STANDARD
TZOFFSETFROM:+0000
TZOFFSETTO:+0000
TZNAME:UTC
DTSTART:20220101T000000
END:STANDARD
END:VTIMEZONE
BEGIN:VEVENT
DTSTART;VALUE=DATE:20230501
DTEND;VALUE=DATE:20230502
DTSTAMP:20260422T122056
CREATED:20230130T204011Z
LAST-MODIFIED:20230503T165151Z
UID:10000904-1682899200-1682985599@rockymountainpga.com
SUMMARY:Laurel GC Scholarship Pro-Am
DESCRIPTION:RMSPGA Foundation Laurel Golf Club Scholarship Pro-Am \nLaurel Golf Club – Laurel\, MT\nMonday\, May 1\, 2023 \n18 Holes\, 1G/1N; 8:00 Starting Times Both Sides;\nTee Markers: Professionals – Blue\, Women Professionals – White\, Ams – Blue\, Women Ams – Gold; Tee-it-FORWARD\nEntry Fees: Professionals – $85\, Amateurs – $85\, $75 to Purse and Sanction;\nEntry Includes: $10 Scholarship Donation\, Range\, Deuce Pot\, Skins; 50 Teams Max;\nCLICK HERE for Golf Genius Entry: Members – 4/18\, Associates – 4/18\, Amateur Team Captains – 4/21\n(406) 628-4504 Mark Hahn \nCLICK HERE for Results
URL:https://rockymountainpga.com/event/laurel-gc-scholarship-pro-am/
CATEGORIES:Yellowstone
END:VEVENT
END:VCALENDAR