BEGIN:VCALENDAR
VERSION:2.0
PRODID:-//Rocky Mountain Section PGA - ECPv6.15.20//NONSGML v1.0//EN
CALSCALE:GREGORIAN
METHOD:PUBLISH
X-WR-CALNAME:Rocky Mountain Section PGA
X-ORIGINAL-URL:https://rockymountainpga.com
X-WR-CALDESC:Events for Rocky Mountain Section PGA
REFRESH-INTERVAL;VALUE=DURATION:PT1H
X-Robots-Tag:noindex
X-PUBLISHED-TTL:PT1H
BEGIN:VTIMEZONE
TZID:UTC
BEGIN:STANDARD
TZOFFSETFROM:+0000
TZOFFSETTO:+0000
TZNAME:UTC
DTSTART:20220101T000000
END:STANDARD
END:VTIMEZONE
BEGIN:VEVENT
DTSTART;VALUE=DATE:20230909
DTEND;VALUE=DATE:20230911
DTSTAMP:20260421T022712
CREATED:20230315T232701Z
LAST-MODIFIED:20230913T011533Z
UID:10000941-1694217600-1694390399@rockymountainpga.com
SUMMARY:Gallatin Valley Open
DESCRIPTION:Pepsi Gallatin Valley Open presented by Culligan\nCottonwood Hills Golf Course – Bozeman\, Montana\nSaturday & Sunday\, September 9-10\, 2023 \nCLICK HERE for Results
URL:https://rockymountainpga.com/event/gallatin-valley-open-4/
CATEGORIES:Section,Yellowstone
END:VEVENT
BEGIN:VEVENT
DTSTART;VALUE=DATE:20230911
DTEND;VALUE=DATE:20230912
DTSTAMP:20260421T022712
CREATED:20230130T221828Z
LAST-MODIFIED:20230912T225921Z
UID:10000912-1694390400-1694476799@rockymountainpga.com
SUMMARY:Hilands GC Pro-Am
DESCRIPTION:Hilands Golf Club Pro-Am\nBillings\, MT\nMonday\, September 11\, 2023 \n18 Holes\, 1G/1N; 8:15 a.m. & 1:45 p.m. Shotguns;\nTee Markers: Professionals – White/Red\, Amateurs – White/Red\, Lady Amateurs – Blue/Yellow\nEntry Fees: Professionals – $75\, Amateurs – $75\, All to Purse and Sanction;\nEntry Includes: Range\, Deuce Pot\, Skins; 25 Teams Max;\nCLICK HERE for Golf Genius Entry: Members – 8/29\, Associates – 8/29\, Amateur Team Captains – 9/1;\n(406) 259-0419 Eddie Kavran \nCLICK HERE for Results
URL:https://rockymountainpga.com/event/hilands-gc-pro-am-3/
CATEGORIES:Yellowstone
END:VEVENT
BEGIN:VEVENT
DTSTART;VALUE=DATE:20230918
DTEND;VALUE=DATE:20230919
DTSTAMP:20260421T022712
CREATED:20230130T222525Z
LAST-MODIFIED:20230920T202409Z
UID:10000913-1694995200-1695081599@rockymountainpga.com
SUMMARY:Briarwood CC Pro-Am
DESCRIPTION:The Briarwood Pro-Am\nBillings\, MT\nMonday\, September 18\, 2023 \n18 Holes\, 1G/2N; 9:00 a.m. Starting Times;\nTee Markers: Professionals – Blue\, Sr. Professionals – White\, Women Professionals – Red\, Amateurs – White\,\nLady Amateurs – Red\, Tee-it-FORWARD;\nEntry Fees: Professionals – $90\, Amateurs – $90\, All to Purse & Sanction;\nEntry Includes:  Lunch\, Range\, Deuce Pot\, Skins\, $5000 added\, Golf Cart not included; 32 Teams Max;\nCLICK HERE for Golf Genius Entry: Members – 9/5\, Associates – 9/5\, Amateur Team Captains – 9/8;\n(406) 248-2702 – Scott Pekovich \nCLICK HERE for Results
URL:https://rockymountainpga.com/event/briarwood-cc-pro-am/
CATEGORIES:Yellowstone
END:VEVENT
BEGIN:VEVENT
DTSTART;VALUE=DATE:20230925
DTEND;VALUE=DATE:20230927
DTSTAMP:20260421T022712
CREATED:20230526T211557Z
LAST-MODIFIED:20230925T213925Z
UID:10000948-1695600000-1695772799@rockymountainpga.com
SUMMARY:Yellowstone Chapter Championship
DESCRIPTION:2023 JC Golf Accessories Yellowstone Chapter PGA Championship\nOlive Glenn Golf & CC – Cody\, WY\nMonday & Tuesday\, September 25-26\, 2023 \nCLICK HERE for the BlueGolf site and all Tournament Information. \n 
URL:https://rockymountainpga.com/event/yellowstone-chapter-championship-5/
CATEGORIES:Yellowstone
END:VEVENT
END:VCALENDAR