BEGIN:VCALENDAR
VERSION:2.0
PRODID:-//Rocky Mountain Section PGA - ECPv6.15.20//NONSGML v1.0//EN
CALSCALE:GREGORIAN
METHOD:PUBLISH
X-ORIGINAL-URL:https://rockymountainpga.com
X-WR-CALDESC:Events for Rocky Mountain Section PGA
REFRESH-INTERVAL;VALUE=DURATION:PT1H
X-Robots-Tag:noindex
X-PUBLISHED-TTL:PT1H
BEGIN:VTIMEZONE
TZID:UTC
BEGIN:STANDARD
TZOFFSETFROM:+0000
TZOFFSETTO:+0000
TZNAME:UTC
DTSTART:20250101T000000
END:STANDARD
END:VTIMEZONE
BEGIN:VEVENT
DTSTART;VALUE=DATE:20260629
DTEND;VALUE=DATE:20260701
DTSTAMP:20260421T205726
CREATED:20260304T025537Z
LAST-MODIFIED:20260309T235817Z
UID:10001304-1782691200-1782863999@rockymountainpga.com
SUMMARY:Jackpot GC Pro-Ladies
DESCRIPTION:Jackpot Golf Club Pro-Ladies\nSponsored by Cactus Pete’s Resort Casino\nJackpot\, NV\nMonday & Tuesday\, June 29 – 30\, 2026 \n36 Holes\, 1G/1N; Monday – 1:00 p.m. & Tuesday – 9:00 a.m. Shotguns\nTee Markers: Professionals – Blue\, Women Professionals – Red\,\nSenior Professionals – White\, Lady Amateurs – Red \nEntry Fees: $180 per player\nEntry Includes: $120 Purse\, $20 Sanction/Foundation\, $40 Golf Car\n$1\,000 added; 24 Teams Max \nGolf Genius Sign-up – Dates: Members – 6/17\, Associates – 6/21\n(775) 755-2260 – Brent Fleshman
URL:https://rockymountainpga.com/event/jackpot-gc-pro-ladies-4/
CATEGORIES:Snake River
END:VEVENT
END:VCALENDAR