BEGIN:VCALENDAR
VERSION:2.0
PRODID:-//Rocky Mountain Section PGA - ECPv6.15.20//NONSGML v1.0//EN
CALSCALE:GREGORIAN
METHOD:PUBLISH
X-ORIGINAL-URL:https://rockymountainpga.com
X-WR-CALDESC:Events for Rocky Mountain Section PGA
REFRESH-INTERVAL;VALUE=DURATION:PT1H
X-Robots-Tag:noindex
X-PUBLISHED-TTL:PT1H
BEGIN:VTIMEZONE
TZID:UTC
BEGIN:STANDARD
TZOFFSETFROM:+0000
TZOFFSETTO:+0000
TZNAME:UTC
DTSTART:20250101T000000
END:STANDARD
END:VTIMEZONE
BEGIN:VEVENT
DTSTART;VALUE=DATE:20260608
DTEND;VALUE=DATE:20260609
DTSTAMP:20260424T071735
CREATED:20260303T233906Z
LAST-MODIFIED:20260309T225825Z
UID:10001300-1780876800-1780963199@rockymountainpga.com
SUMMARY:Timberstone GC Pro-Am
DESCRIPTION:TimberStone Golf Course Pro-Am\nCaldwell\, ID\nMonday\, June 8\, 2026 \n18 Holes\, 1G/1N; 8:00 a.m. – 2:00 p.m. Starting Times\nTee Markers: Professionals – Orange\, Women Professionals – Green\,\nSenior Professionals – White\, Amateurs – White\, Lady Amateurs – Gold \nEntry Fees: $125 per player\nEntry Includes: $60 Purse\, $15 Sanction/Foundation\, $15 Lunch\, $35 Golf Car/Range\n37 Teams Max \nGolf Genius Sign-up –Dates: Members 5/27\, Associates 5/31\n(208) 639-6900 – Tad Holloway
URL:https://rockymountainpga.com/event/timberstone-gc-pro-am-3/
CATEGORIES:Snake River
END:VEVENT
END:VCALENDAR