BEGIN:VCALENDAR
VERSION:2.0
PRODID:-//Rocky Mountain Section PGA - ECPv6.15.20//NONSGML v1.0//EN
CALSCALE:GREGORIAN
METHOD:PUBLISH
X-WR-CALNAME:Rocky Mountain Section PGA
X-ORIGINAL-URL:https://rockymountainpga.com
X-WR-CALDESC:Events for Rocky Mountain Section PGA
REFRESH-INTERVAL;VALUE=DURATION:PT1H
X-Robots-Tag:noindex
X-PUBLISHED-TTL:PT1H
BEGIN:VTIMEZONE
TZID:UTC
BEGIN:STANDARD
TZOFFSETFROM:+0000
TZOFFSETTO:+0000
TZNAME:UTC
DTSTART:20240101T000000
END:STANDARD
END:VTIMEZONE
BEGIN:VEVENT
DTSTART;VALUE=DATE:20250909
DTEND;VALUE=DATE:20250910
DTSTAMP:20260424T095532
CREATED:20250814T212419Z
LAST-MODIFIED:20250910T231925Z
UID:10001234-1757376000-1757462399@rockymountainpga.com
SUMMARY:Osprey Meadows Pro-Am
DESCRIPTION:Osprey Meadows at Tamarack Resort Pro-Am\nTamarack\, ID\nTuesday\, September 9\, 2025 \n18 Holes – Chicago Best 3 of 4 – 9:00 a.m. Shotgun Start\nTee Markers: Black Diamond – Regular Division Pros\,\nBlue Square – Male Ams and Sr. Pros\, Green Circle Combo – All Women Pros\, Women Ams & Super Seniors\nEntry Fees:  All Players $150 – $70 to Purse & Sanction\nEntry Includes: $25 Post Round Lunch – $55 Course Usage Including Golf Car & Range\n28 Teams Max \nCLICK HERE for Golf Genius Sign-Up – Dates:  8:00 a.m. – Members 8/28\, Associates 8/31\n(208) 325-1027 – Chris Peterson \nCLICK HERE for Golf Genius Results \nCLICK HERE for Final Results
URL:https://rockymountainpga.com/event/osprey-meadows-pro-am/
CATEGORIES:Snake River
END:VEVENT
END:VCALENDAR