BEGIN:VCALENDAR
VERSION:2.0
PRODID:-//Rocky Mountain Section PGA - ECPv6.15.20//NONSGML v1.0//EN
CALSCALE:GREGORIAN
METHOD:PUBLISH
X-ORIGINAL-URL:https://rockymountainpga.com
X-WR-CALDESC:Events for Rocky Mountain Section PGA
REFRESH-INTERVAL;VALUE=DURATION:PT1H
X-Robots-Tag:noindex
X-PUBLISHED-TTL:PT1H
BEGIN:VTIMEZONE
TZID:UTC
BEGIN:STANDARD
TZOFFSETFROM:+0000
TZOFFSETTO:+0000
TZNAME:UTC
DTSTART:20240101T000000
END:STANDARD
END:VTIMEZONE
BEGIN:VEVENT
DTSTART;VALUE=DATE:20250908
DTEND;VALUE=DATE:20250909
DTSTAMP:20260423T201220
CREATED:20250814T211340Z
LAST-MODIFIED:20250911T184908Z
UID:10001233-1757289600-1757375999@rockymountainpga.com
SUMMARY:MeadowCreek Pro-Am
DESCRIPTION:MeadowCreek Golf Resort Pro-Am\nNew Meadows\, ID\nMonday\, September 8\, 2025 \n18 Holes – Chicago Best 3 of 4 – 1:00 p.m. Shotgun Start\nTee Markers: Gold – All Male Pros & Male Ams\,\nGreen – All Women Pros & Women Ams & All Super Seniors\nEntry Fees:  All Players $125 – $70 to Purse & Sanction\nEntry Includes:  $2\,000 added money – $20 Dinner – $35 Course Usage Including Golf Car & Range\n28 Teams Max \nCLICK HERE for Golf Genius Sign-Up – Dates:  8:00 a.m. – Members 8/28\, Associates 8/31\n(208) 347-2555 – Alex Degenstein \nCLICK HERE for Golf Genius Results \nCLICK HERE for Corrected Results
URL:https://rockymountainpga.com/event/meadowcreek-pro-am/
CATEGORIES:Snake River
END:VEVENT
END:VCALENDAR