BEGIN:VCALENDAR
VERSION:2.0
PRODID:-//Rocky Mountain Section PGA - ECPv6.15.20//NONSGML v1.0//EN
CALSCALE:GREGORIAN
METHOD:PUBLISH
X-ORIGINAL-URL:https://rockymountainpga.com
X-WR-CALDESC:Events for Rocky Mountain Section PGA
REFRESH-INTERVAL;VALUE=DURATION:PT1H
X-Robots-Tag:noindex
X-PUBLISHED-TTL:PT1H
BEGIN:VTIMEZONE
TZID:UTC
BEGIN:STANDARD
TZOFFSETFROM:+0000
TZOFFSETTO:+0000
TZNAME:UTC
DTSTART:20220101T000000
END:STANDARD
END:VTIMEZONE
BEGIN:VEVENT
DTSTART;VALUE=DATE:20230501
DTEND;VALUE=DATE:20230502
DTSTAMP:20260420T182641
CREATED:20230310T221155Z
LAST-MODIFIED:20230419T133017Z
UID:10000918-1682899200-1682985599@rockymountainpga.com
SUMMARY:Highland Golf Course Pro-Am
DESCRIPTION:Highland Golf Course Pro-Am\nPocatello\, ID\nMonday\, May 1\, 2023 \nTHIS EVENT HAS BEEN CANCELLED \n18 Holes\, 1G / 1N; 7:30 a.m. – 2:00 p.m. Starting Times;\nTee Markers: Professionals – Blue\, Women Professionals – White\, Senior Professionals – White\,\nAmateurs – White\, Women Amateurs – Gold\, Tee-It-FORWARD;\nEntry Fees: Professionals – $55\, Amateurs – $55\, All to Purse and Sanction; 40 Teams Max;\nForeTees Online Entry Only Dates: 8:00 a.m.; Members – 4/19\, Associates – 4/23;\n(208) 237-9922 Greg Allbright
URL:https://rockymountainpga.com/event/highland-golf-course-pro-am-4/
CATEGORIES:Snake River
END:VEVENT
END:VCALENDAR