BEGIN:VCALENDAR
VERSION:2.0
PRODID:-//Rocky Mountain Section PGA - ECPv6.15.20//NONSGML v1.0//EN
CALSCALE:GREGORIAN
METHOD:PUBLISH
X-WR-CALNAME:Rocky Mountain Section PGA
X-ORIGINAL-URL:https://rockymountainpga.com
X-WR-CALDESC:Events for Rocky Mountain Section PGA
REFRESH-INTERVAL;VALUE=DURATION:PT1H
X-Robots-Tag:noindex
X-PUBLISHED-TTL:PT1H
BEGIN:VTIMEZONE
TZID:UTC
BEGIN:STANDARD
TZOFFSETFROM:+0000
TZOFFSETTO:+0000
TZNAME:UTC
DTSTART:20210101T000000
END:STANDARD
END:VTIMEZONE
BEGIN:VEVENT
DTSTART;VALUE=DATE:20220531
DTEND;VALUE=DATE:20220602
DTSTAMP:20260421T211340
CREATED:20220310T235028Z
LAST-MODIFIED:20220602T153210Z
UID:10000855-1653955200-1654127999@rockymountainpga.com
SUMMARY:Sun Valley / Elkhorn GC Pro-Am
DESCRIPTION:Sun Valley Golf Resort / Elkhorn Golf Club Pro-Am\nSun Valley\, ID\nTuesday\, May 31 & Wednesday\, June 1\, 2022 \n36 Holes\, Chicago; 9:00-11:00 Split Tee Starting Times;\nTee Markers: Professionals – Black\, Women Professionals – Green\, Senior Professionals – White\,\nAms – White\, Women Ams – Red; Entry Fees: Professionals – $350\, Ams – $350\, $200 to Purse and Sanction;\nEntry Includes: $1\,000 Added\, $40 Cart\, $60 Course Usage\, Lunch $50; 26 Teams Max; Shorts Permitted\nForeTees Online Entry Only Dates: 8:00 a.m.; Members – 5/19\, Associates – 5/23;\n(208) 622-2251 Jeff Petersen / Tate Mills / Dominick Conti \nCLICK HERE for Results
URL:https://rockymountainpga.com/event/sun-valley-elkhorn-gc-pro-am-2/
CATEGORIES:Snake River
END:VEVENT
END:VCALENDAR