BEGIN:VCALENDAR
VERSION:2.0
PRODID:-//Rocky Mountain Section PGA - ECPv6.15.20//NONSGML v1.0//EN
CALSCALE:GREGORIAN
METHOD:PUBLISH
X-WR-CALNAME:Rocky Mountain Section PGA
X-ORIGINAL-URL:https://rockymountainpga.com
X-WR-CALDESC:Events for Rocky Mountain Section PGA
REFRESH-INTERVAL;VALUE=DURATION:PT1H
X-Robots-Tag:noindex
X-PUBLISHED-TTL:PT1H
BEGIN:VTIMEZONE
TZID:UTC
BEGIN:STANDARD
TZOFFSETFROM:+0000
TZOFFSETTO:+0000
TZNAME:UTC
DTSTART:20210101T000000
END:STANDARD
END:VTIMEZONE
BEGIN:VEVENT
DTSTART;VALUE=DATE:20220322
DTEND;VALUE=DATE:20220323
DTSTAMP:20260424T193045
CREATED:20220218T201102Z
LAST-MODIFIED:20220324T001815Z
UID:10000839-1647907200-1647993599@rockymountainpga.com
SUMMARY:BanBury GC Pro-Ladies
DESCRIPTION:BanBury Golf Course Pro-Ladies\nEagle\, ID\nTuesday\, March 22\, 2022 \n18 Holes\, 2N; 11:00 a.m. Shotgun\nTee Markers: Professionals – Red\, Women Professionals – White\,\nSenior Professionals – Black\, Lady Amateurs – Orange\nEntry Fees: Professionals – $80\, Amateurs – $80\n$70 to Purse & Sanction\nEntry Includes: Minimum $2\,000 added\, $20 Optional Golf Car\, $10 Lunch\,\n28 Teams Max – Shorts Permitted\nForeTees On-line Entry Only Dates: Members – 3/10\, Associates – 3/14\n(208) 939-3600 – Rob Harbottle \nCLICK HERE for Results
URL:https://rockymountainpga.com/event/banbury-golf-course-pro-ladies/
CATEGORIES:Snake River
END:VEVENT
END:VCALENDAR