BEGIN:VCALENDAR
VERSION:2.0
PRODID:-//Rocky Mountain Section PGA - ECPv6.15.20//NONSGML v1.0//EN
CALSCALE:GREGORIAN
METHOD:PUBLISH
X-ORIGINAL-URL:https://rockymountainpga.com
X-WR-CALDESC:Events for Rocky Mountain Section PGA
REFRESH-INTERVAL;VALUE=DURATION:PT1H
X-Robots-Tag:noindex
X-PUBLISHED-TTL:PT1H
BEGIN:VTIMEZONE
TZID:UTC
BEGIN:STANDARD
TZOFFSETFROM:+0000
TZOFFSETTO:+0000
TZNAME:UTC
DTSTART:20240101T000000
END:STANDARD
END:VTIMEZONE
BEGIN:VEVENT
DTSTART;VALUE=DATE:20251111
DTEND;VALUE=DATE:20251112
DTSTAMP:20260426T015649
CREATED:20250303T224827Z
LAST-MODIFIED:20251113T232048Z
UID:10001227-1762819200-1762905599@rockymountainpga.com
SUMMARY:PGA HOPE Pro-Am
DESCRIPTION:PGA HOPE Pro-Am\nSupported by Andersen Renewal \nLakeview Golf Course\nMeridian\, ID \nVeteran’s Day – Tuesday\, November 11\, 2025 \nCLICK HERE for Final Results \nCLICK HERE for Event Flyer
URL:https://rockymountainpga.com/event/pga-hope-pro-am/
CATEGORIES:Snake River
END:VEVENT
END:VCALENDAR