BEGIN:VCALENDAR
VERSION:2.0
PRODID:-//Rocky Mountain Section PGA - ECPv6.15.20//NONSGML v1.0//EN
CALSCALE:GREGORIAN
METHOD:PUBLISH
X-WR-CALNAME:Rocky Mountain Section PGA
X-ORIGINAL-URL:https://rockymountainpga.com
X-WR-CALDESC:Events for Rocky Mountain Section PGA
REFRESH-INTERVAL;VALUE=DURATION:PT1H
X-Robots-Tag:noindex
X-PUBLISHED-TTL:PT1H
BEGIN:VTIMEZONE
TZID:UTC
BEGIN:STANDARD
TZOFFSETFROM:+0000
TZOFFSETTO:+0000
TZNAME:UTC
DTSTART:20230101T000000
END:STANDARD
END:VTIMEZONE
BEGIN:VEVENT
DTSTART;VALUE=DATE:20240603
DTEND;VALUE=DATE:20240604
DTSTAMP:20260420T163111
CREATED:20240208T004149Z
LAST-MODIFIED:20240604T174527Z
UID:10000980-1717372800-1717459199@rockymountainpga.com
SUMMARY:TimberStone GC Pro-Am
DESCRIPTION:TimberStone Golf Course Pro-Am\nCaldwell\, ID\nMonday\, June 3\, 2024 \n18 Holes\, 1G/1N; 8:00 a.m. – 2:00 p.m. Starting Times\nTee Markers: Professionals – Orange\, Women Professionals – Green\,\nSenior Professionals – White\, Amateurs – White\, Lady Amateurs – Gold\nEntry Fees: Professionals – $110\, Amateurs – $110\nEntry Includes: $60 to Purse & Sanction\, $5 Range\, $15 Lunch\, $30 Course Usage\n37 Teams Max – Shorts Permitted\nGolf Genius Sign-up Dates: Members 5/22\, Associates 5/26\n(208) 639-6900 Tad Holloway \nCLICK HERE for Final Results \nCLICK HERE for Golf Genius Results
URL:https://rockymountainpga.com/event/timberstone-gc-pro-am-2/
CATEGORIES:Snake River
END:VEVENT
BEGIN:VEVENT
DTSTART;VALUE=DATE:20240603
DTEND;VALUE=DATE:20240604
DTSTAMP:20260420T163111
CREATED:20240216T214906Z
LAST-MODIFIED:20240604T184541Z
UID:10000983-1717372800-1717459199@rockymountainpga.com
SUMMARY:Juniper Hills CC Pro-Am
DESCRIPTION:Juniper Hills Country Club Pro-Am\nPocatello\, ID\nMonday\, June 3\, 2024 \n18 Holes\, Chicago; 9:00 a.m. – 2:00 p.m. Starting Times;\nTee Markers: Professionals – Back\, Women Professionals – Forward\, Senior Professionals – Middle\,\nAmateurs – Middle\, Women Amateurs – Forward; Entry Fees: Professionals – $85\, Amateurs – $85\,\n$65 to Purse and Sanction; Entry Includes: $15 Lunch\, $5 Range; 32 Teams Max;\nGolf Genius Sign-up Dates: 8:00 a.m.; Members – 5/22\, Associates – 5/26;\n(208) 233-0269 Dallen Atkins \nCLICK HERE for Final Results \nCLICK HERE for Golf Genius Results
URL:https://rockymountainpga.com/event/juniper-hills-cc-pro-am-3/
CATEGORIES:Snake River
END:VEVENT
BEGIN:VEVENT
DTSTART;VALUE=DATE:20240610
DTEND;VALUE=DATE:20240611
DTSTAMP:20260420T163111
CREATED:20240216T221220Z
LAST-MODIFIED:20240611T202755Z
UID:10000798-1717977600-1718063999@rockymountainpga.com
SUMMARY:Blackfoot GC Pro-Am
DESCRIPTION:Blackfoot Golf Course Pro-Am\nBlackfoot\, ID\nMonday\, June 10\, 2024 \n18 Holes\, Chicago; 8:00 a.m-2:30 p.m. Starting Times\nTee Markers: Professionals – Black\, Women Professionals – White\,\nSenior Professionals – Blue\, Amateurs – Blue\, Lady Amateurs – Green\nEntry Fees: Professionals – $65\, Amateurs – $65\nAll to Purse & Sanction\n36 Teams Max – Shorts Permitted\nGolf Genius Sign-up Dates: Members – 5/29\, Associates – 6/2\n(208) 785-9960 – Mike Dayley \nCLICK HERE for Final Results \nCLICK HERE for Golf Genius Results
URL:https://rockymountainpga.com/event/blackfoot-gc-pro-am-3/
CATEGORIES:Snake River
END:VEVENT
BEGIN:VEVENT
DTSTART;VALUE=DATE:20240612
DTEND;VALUE=DATE:20240613
DTSTAMP:20260420T163111
CREATED:20240212T191047Z
LAST-MODIFIED:20240212T191047Z
UID:10000982-1718150400-1718236799@rockymountainpga.com
SUMMARY:Super / Pro
DESCRIPTION:Super / Pro\nSand Creek Golf Course\nIdaho Falls\, Idaho \nWednesday\, June 12\, 2024
URL:https://rockymountainpga.com/event/super-pro/
CATEGORIES:Snake River
END:VEVENT
BEGIN:VEVENT
DTSTART;VALUE=DATE:20240617
DTEND;VALUE=DATE:20240618
DTSTAMP:20260420T163111
CREATED:20240216T222515Z
LAST-MODIFIED:20240618T161529Z
UID:10000800-1718582400-1718668799@rockymountainpga.com
SUMMARY:Teton Lakes GC Pro-Am
DESCRIPTION:Teton Lakes Golf Course Pro-Am\nRexburg\, ID\nMonday\, June 17\, 2024 \n18 Holes\, 1G/2N; 8:00 a.m. to 2:00 p.m. Starting Times\nTee Markers: Professionals – Blue\, Women Professionals – White\,\nSenior Professionals – White\, Amateurs – White\, Lady Amateurs – Red\nTee-it-FORWARD\nEntry Fees: Professionals – $60\, Amateurs – $60\nAll to Purse & Sanction\n37 Teams Max – Shorts Permitted\nGolf Genius Sign-up Dates: Members – 6/5 Associates – 6/9\n(208) 359-3036 – Cameron Garn \nCLICK HERE for Final Results \nCLICK HERE for Golf Genius Results
URL:https://rockymountainpga.com/event/teton-lakes-gc-pro-am-3/
CATEGORIES:Snake River
END:VEVENT
BEGIN:VEVENT
DTSTART;VALUE=DATE:20240617
DTEND;VALUE=DATE:20240618
DTSTAMP:20260420T163111
CREATED:20240216T223215Z
LAST-MODIFIED:20240604T173935Z
UID:10000801-1718582400-1718668799@rockymountainpga.com
SUMMARY:Eagle Hills Pro-Am
DESCRIPTION:Eagle Hills Golf Course Pro-Am\nEagle\, ID\nMonday\, June 17\, 2024 \nTHIS EVENT HAS BEEN CANCELLED \n18 Holes\, 3 of 4 Net Stableford; 10:00 a.m. Shotgun\nTee Markers: Professionals – Black\, Women Professionals – White\,\nSenior Professionals – Blue\, Amateurs – Blue\, Lady Amateurs – Red\nEntry Fees: Professionals – $95\, Amateurs – $95\nEntry Includes: $75 to Purse & Sanction – $20 Golf Car\n28 Teams Max – Shorts Permitted\nGolf Genius Sign-up Dates: Members – 6/5 Associates – 6/9\n(208) 939-0402
URL:https://rockymountainpga.com/event/eagle-hills-pro-am/
CATEGORIES:Snake River
END:VEVENT
BEGIN:VEVENT
DTSTART;VALUE=DATE:20240621
DTEND;VALUE=DATE:20240622
DTSTAMP:20260420T163111
CREATED:20240216T225140Z
LAST-MODIFIED:20240216T225140Z
UID:10000804-1718928000-1719014399@rockymountainpga.com
SUMMARY:The Valley Club Stoney Brown Patriot Invitational
DESCRIPTION:Stoney Brown Invitational at The Valley Club\nSun Valley\, ID\nFriday\, June 21\, 2024 \nBy Invitation Only
URL:https://rockymountainpga.com/event/the-valley-club-stoney-brown-patriot-invitational/
CATEGORIES:Snake River
END:VEVENT
BEGIN:VEVENT
DTSTART;VALUE=DATE:20240624
DTEND;VALUE=DATE:20240625
DTSTAMP:20260420T163111
CREATED:20240216T225958Z
LAST-MODIFIED:20240625T161143Z
UID:10000985-1719187200-1719273599@rockymountainpga.com
SUMMARY:Preston G&CC Pro-Am
DESCRIPTION:Preston Golf & Country Club Pro-Am presented by Stokes Market/True Value\nPreston\, ID\nMonday\, June 24\, 2024 \n18 Holes\, 1G/1N; 8:00 a.m-2:00 p.m. Starting Times\nTee Markers: Professionals – Black\, Women Professionals – Blue\,\nSenior Professionals – White\, Amateurs – White\, Lady Amateurs – Gold\nEntry Fees: Professionals – $82\, Amateurs – $82; $55 to Purse & Sanction\nEntry Includes: $10 Lunch\, $17 Golf Car\, $2\,000 Added Money\n28 Teams Max – Shorts Permitted\nGolf Genius Sign-up Dates: Members – 6/12\, Associates – 6/16\n(208) 852-2408 – John Van Vleet \nCLICK HERE for Final Results \nCLICK HERE for Golf Genius Results
URL:https://rockymountainpga.com/event/preston-gcc-pro-am-2/
CATEGORIES:Snake River
END:VEVENT
END:VCALENDAR