BEGIN:VCALENDAR
VERSION:2.0
PRODID:-//Rocky Mountain Section PGA - ECPv6.15.20//NONSGML v1.0//EN
CALSCALE:GREGORIAN
METHOD:PUBLISH
X-WR-CALNAME:Rocky Mountain Section PGA
X-ORIGINAL-URL:https://rockymountainpga.com
X-WR-CALDESC:Events for Rocky Mountain Section PGA
REFRESH-INTERVAL;VALUE=DURATION:PT1H
X-Robots-Tag:noindex
X-PUBLISHED-TTL:PT1H
BEGIN:VTIMEZONE
TZID:UTC
BEGIN:STANDARD
TZOFFSETFROM:+0000
TZOFFSETTO:+0000
TZNAME:UTC
DTSTART:20220101T000000
END:STANDARD
END:VTIMEZONE
BEGIN:VEVENT
DTSTART;VALUE=DATE:20230914
DTEND;VALUE=DATE:20230915
DTSTAMP:20260422T082659
CREATED:20230817T192756Z
LAST-MODIFIED:20230915T210222Z
UID:10000958-1694649600-1694735999@rockymountainpga.com
SUMMARY:Idaho Open Pro-Am Benefitting First Tee Idaho & The RMSPGA Foundation
DESCRIPTION:IDAHO OPEN PRO-AM\nBenefitting First Tee Idaho & The RMSPGA Foundation \nThursday\, September 14\, 2023\nQuail Hollow Golf Club\nBoise\, Idaho \nCLICK HERE for Results
URL:https://rockymountainpga.com/event/idaho-open-pro-am-benefitting-first-tee-idaho-the-rmspga-foundation/
CATEGORIES:Section,Snake River
END:VEVENT
END:VCALENDAR