BEGIN:VCALENDAR
VERSION:2.0
PRODID:-//Rocky Mountain Section PGA - ECPv6.15.20//NONSGML v1.0//EN
CALSCALE:GREGORIAN
METHOD:PUBLISH
X-ORIGINAL-URL:https://rockymountainpga.com
X-WR-CALDESC:Events for Rocky Mountain Section PGA
REFRESH-INTERVAL;VALUE=DURATION:PT1H
X-Robots-Tag:noindex
X-PUBLISHED-TTL:PT1H
BEGIN:VTIMEZONE
TZID:UTC
BEGIN:STANDARD
TZOFFSETFROM:+0000
TZOFFSETTO:+0000
TZNAME:UTC
DTSTART:20210101T000000
END:STANDARD
END:VTIMEZONE
BEGIN:VEVENT
DTSTART;VALUE=DATE:20220622
DTEND;VALUE=DATE:20220624
DTSTAMP:20260421T234748
CREATED:20220311T192957Z
LAST-MODIFIED:20220616T194640Z
UID:10000858-1655856000-1656028799@rockymountainpga.com
SUMMARY:RMSPGA Junior Championship
DESCRIPTION:RMSPGA Junior Championship\n \nWednesday & Thursday\, June 22-23\, 2022 \nCentennial Golf Course – Nampa\, Idaho \nENTRY HAS CLOSED – STARTING TIMES WILL BE POSTED BY NOON\, MONDAY\, JUNE 20th \nCLICK HERE for the BlueGolf Website and all Tournament Information
URL:https://rockymountainpga.com/event/rmspga-junior-championship-2/
CATEGORIES:Section
END:VEVENT
END:VCALENDAR