BEGIN:VCALENDAR
VERSION:2.0
PRODID:-//Rocky Mountain Section PGA - ECPv6.15.20//NONSGML v1.0//EN
CALSCALE:GREGORIAN
METHOD:PUBLISH
X-WR-CALNAME:Rocky Mountain Section PGA
X-ORIGINAL-URL:https://rockymountainpga.com
X-WR-CALDESC:Events for Rocky Mountain Section PGA
REFRESH-INTERVAL;VALUE=DURATION:PT1H
X-Robots-Tag:noindex
X-PUBLISHED-TTL:PT1H
BEGIN:VTIMEZONE
TZID:UTC
BEGIN:STANDARD
TZOFFSETFROM:+0000
TZOFFSETTO:+0000
TZNAME:UTC
DTSTART:20210101T000000
END:STANDARD
END:VTIMEZONE
BEGIN:VEVENT
DTSTART;VALUE=DATE:20220712
DTEND;VALUE=DATE:20220714
DTSTAMP:20260419T223603
CREATED:20220412T201554Z
LAST-MODIFIED:20220707T214650Z
UID:10000868-1657584000-1657756799@rockymountainpga.com
SUMMARY:RMSPGA Senior Section Championship
DESCRIPTION:Rocky Mountain Section Senior PGA Professional Championship\npresented by Cadillac\nsupported by Golf Channel\, ROLEX and The PGA TOUR \nTimberStone Golf Course – Caldwell\, ID \nTuesday & Wednesday\, July 12-13\, 2022 \nCLICK HERE for the BlueGolf portal and all tournament information. \n \n 
URL:https://rockymountainpga.com/event/rmspga-senior-section-championship-3/
CATEGORIES:Section
END:VEVENT
BEGIN:VEVENT
DTSTART;VALUE=DATE:20220727
DTEND;VALUE=DATE:20220728
DTSTAMP:20260419T223603
CREATED:20220412T204603Z
LAST-MODIFIED:20220722T171802Z
UID:10000871-1658880000-1658966399@rockymountainpga.com
SUMMARY:RMSPGA Assistant Championship
DESCRIPTION:National Car Rental Rocky Mountain Section Assistant PGA Professional Championship\nSupported by Srixon | Cleveland Golf | XXIO | Asics\, ROLEX and The PGA TOUR \nBlackfoot Golf Course – Blackfoot\, ID\nWednesday\, July 27\, 2022 \nCLICK HERE for the BlueGolf website to access all tournament information. \n \n 
URL:https://rockymountainpga.com/event/rmspga-assistant-championship-3/
CATEGORIES:Section
END:VEVENT
END:VCALENDAR