BEGIN:VCALENDAR
VERSION:2.0
PRODID:-//Rocky Mountain Section PGA - ECPv6.15.20//NONSGML v1.0//EN
CALSCALE:GREGORIAN
METHOD:PUBLISH
X-WR-CALNAME:Rocky Mountain Section PGA
X-ORIGINAL-URL:https://rockymountainpga.com
X-WR-CALDESC:Events for Rocky Mountain Section PGA
REFRESH-INTERVAL;VALUE=DURATION:PT1H
X-Robots-Tag:noindex
X-PUBLISHED-TTL:PT1H
BEGIN:VTIMEZONE
TZID:UTC
BEGIN:STANDARD
TZOFFSETFROM:+0000
TZOFFSETTO:+0000
TZNAME:UTC
DTSTART:20180101T000000
END:STANDARD
END:VTIMEZONE
BEGIN:VEVENT
DTSTART;VALUE=DATE:20230809
DTEND;VALUE=DATE:20230810
DTSTAMP:20260422T044050
CREATED:20230315T221946Z
LAST-MODIFIED:20230315T221946Z
UID:10000758-1691539200-1691625599@rockymountainpga.com
SUMMARY:P.A.T. - Sand Creek Golf Course
DESCRIPTION:PGA Player Ability Test\n\nWednesday\, August 9\, 2023\nSand Creek Golf Course\nIdaho Falls\, Idaho \nCLICK HERE for Information
URL:https://rockymountainpga.com/event/p-a-t-sand-creek-golf-course-3/
CATEGORIES:PAT
END:VEVENT
BEGIN:VEVENT
DTSTART;VALUE=DATE:20230712
DTEND;VALUE=DATE:20230713
DTSTAMP:20260422T044050
CREATED:20230315T214347Z
LAST-MODIFIED:20230315T214347Z
UID:10000936-1689120000-1689206399@rockymountainpga.com
SUMMARY:P.A.T. - Lake Hills Golf Course
DESCRIPTION:PGA Player Ability Test\n\nWednesday\, July 12\, 2023\nLake Hills Golf Course\nBillings\, Montana \nCLICK HERE for Information
URL:https://rockymountainpga.com/event/p-a-t-lake-hills-golf-course-3/
CATEGORIES:PAT
END:VEVENT
BEGIN:VEVENT
DTSTART;VALUE=DATE:20230613
DTEND;VALUE=DATE:20230614
DTSTAMP:20260422T044050
CREATED:20230315T192144Z
LAST-MODIFIED:20230315T192144Z
UID:10000929-1686614400-1686700799@rockymountainpga.com
SUMMARY:P.A.T. - Cottonwood Hills GC
DESCRIPTION:PGA Player Ability Test\n\nTuesday\, June 13\, 2023\nCottonwood Hills Golf Course\nBozeman\, Montana \nCLICK HERE for Information
URL:https://rockymountainpga.com/event/p-a-t-cottonwood-hills-gc/
CATEGORIES:PAT
END:VEVENT
BEGIN:VEVENT
DTSTART;VALUE=DATE:20230420
DTEND;VALUE=DATE:20230421
DTSTAMP:20260422T044050
CREATED:20230222T002725Z
LAST-MODIFIED:20230222T002725Z
UID:10000741-1681948800-1682035199@rockymountainpga.com
SUMMARY:P.A.T. - Ridgecrest Golf Club
DESCRIPTION:PGA Player Ability Test\n\nThursday\, April 20\, 2023\nRidgecrest Golf Club\nNampa\, Idaho \nCLICK HERE for Information
URL:https://rockymountainpga.com/event/p-a-t-ridgecrest-golf-club-3/
CATEGORIES:PAT
END:VEVENT
BEGIN:VEVENT
DTSTART;VALUE=DATE:20220921
DTEND;VALUE=DATE:20220922
DTSTAMP:20260422T044050
CREATED:20220413T201016Z
LAST-MODIFIED:20220413T201016Z
UID:10000705-1663718400-1663804799@rockymountainpga.com
SUMMARY:P.A.T. – Warm Springs Golf Course
DESCRIPTION:PGA Player Ability Test\nWednesday\, September 21\, 2022\nWarm Springs Golf Course\nBoise\, Idaho \nCLICK HERE for Information
URL:https://rockymountainpga.com/event/p-a-t-warm-springs-golf-course-2/
CATEGORIES:PAT
END:VEVENT
BEGIN:VEVENT
DTSTART;VALUE=DATE:20220803
DTEND;VALUE=DATE:20220804
DTSTAMP:20260422T044050
CREATED:20220412T210005Z
LAST-MODIFIED:20220412T210005Z
UID:10000873-1659484800-1659571199@rockymountainpga.com
SUMMARY:P.A.T. - Sand Creek Golf Course
DESCRIPTION:PGA Player Ability Test\nWednesday\, August 3\, 2022\nSand Creek Golf Course\nIdaho Falls\, Idaho \nCLICK HERE for Information
URL:https://rockymountainpga.com/event/p-a-t-sand-creek-golf-course-2/
CATEGORIES:PAT
END:VEVENT
BEGIN:VEVENT
DTSTART;VALUE=DATE:20220719
DTEND;VALUE=DATE:20220720
DTSTAMP:20260422T044050
CREATED:20220412T203110Z
LAST-MODIFIED:20220412T203110Z
UID:10000869-1658188800-1658275199@rockymountainpga.com
SUMMARY:P.A.T. - Lake Hills Golf Course
DESCRIPTION:PGA Player Ability Test\nTuesday\, July 19\, 2022\nLake Hills Golf Course\nBillings\, Montana \nCLICK HERE for Information
URL:https://rockymountainpga.com/event/p-a-t-lake-hills-golf-course-2/
CATEGORIES:PAT
END:VEVENT
BEGIN:VEVENT
DTSTART;VALUE=DATE:20220525
DTEND;VALUE=DATE:20220526
DTSTAMP:20260422T044050
CREATED:20220310T234349Z
LAST-MODIFIED:20220310T234510Z
UID:10000854-1653436800-1653523199@rockymountainpga.com
SUMMARY:P.A.T. - Rupert Country Club
DESCRIPTION:PGA Player Ability Test\n\nWednesday\, May 25\, 2022\nRupert Country Club\nRupert\, Idaho \nCLICK HERE for Information
URL:https://rockymountainpga.com/event/p-a-t-rupert-country-club-2/
CATEGORIES:PAT
END:VEVENT
BEGIN:VEVENT
DTSTART;VALUE=DATE:20220421
DTEND;VALUE=DATE:20220422
DTSTAMP:20260422T044050
CREATED:20220309T232131Z
LAST-MODIFIED:20220309T232131Z
UID:10000658-1650499200-1650585599@rockymountainpga.com
SUMMARY:P.A.T. - Ridgecrest Golf Club
DESCRIPTION:PGA Player Ability Test\n\nThursday\, April 21\, 2022\nRidgecrest Golf Club\nNampa\, Idaho \nCLICK HERE for Information
URL:https://rockymountainpga.com/event/p-a-t-ridgecrest-golf-club-2/
CATEGORIES:PAT
END:VEVENT
BEGIN:VEVENT
DTSTART;VALUE=DATE:20210922
DTEND;VALUE=DATE:20210923
DTSTAMP:20260422T044050
CREATED:20210119T192209Z
LAST-MODIFIED:20210119T192209Z
UID:10000712-1632268800-1632355199@rockymountainpga.com
SUMMARY:P.A.T. - Warm Springs Golf Course
DESCRIPTION:PGA Player Ability Test\nWednesday\, September 22\, 2021\nWarm Springs Golf Course\nBoise\, Idaho \nCLICK HERE for Information
URL:https://rockymountainpga.com/event/p-a-t-warm-springs-golf-course/
CATEGORIES:PAT
END:VEVENT
BEGIN:VEVENT
DTSTART;VALUE=DATE:20210804
DTEND;VALUE=DATE:20210805
DTSTAMP:20260422T044050
CREATED:20210119T192047Z
LAST-MODIFIED:20210119T192047Z
UID:10000710-1628035200-1628121599@rockymountainpga.com
SUMMARY:P.A.T. - Sand Creek Golf Course
DESCRIPTION:PGA Player Ability Test\nWednesday\, August 4\, 2021\nSand Creek Golf Course\nIdaho Falls\, Idaho \nCLICK HERE for Information
URL:https://rockymountainpga.com/event/p-a-t-sand-creek-golf-course/
CATEGORIES:PAT
END:VEVENT
BEGIN:VEVENT
DTSTART;VALUE=DATE:20210715
DTEND;VALUE=DATE:20210716
DTSTAMP:20260422T044050
CREATED:20210119T191835Z
LAST-MODIFIED:20210119T191835Z
UID:10000708-1626307200-1626393599@rockymountainpga.com
SUMMARY:P.A.T. - Lake Hills Golf Course
DESCRIPTION:PGA Player Ability Test\nThursday\, July 15\, 2021\nLake Hills Golf Course\nBillings\, Montana \nCLICK HERE for Information
URL:https://rockymountainpga.com/event/p-a-t-lake-hills-golf-course/
CATEGORIES:PAT
END:VEVENT
BEGIN:VEVENT
DTSTART;VALUE=DATE:20210526
DTEND;VALUE=DATE:20210527
DTSTAMP:20260422T044050
CREATED:20210119T191446Z
LAST-MODIFIED:20210521T015558Z
UID:10000706-1621987200-1622073599@rockymountainpga.com
SUMMARY:P.A.T. - Rupert Country Club
DESCRIPTION:PGA Player Ability Test\nWednesday\, May 26\, 2021\nRupert Country Club\nRupert\, Idaho \nThis event has been canceled.
URL:https://rockymountainpga.com/event/p-a-t-rupert-country-club/
CATEGORIES:PAT
END:VEVENT
BEGIN:VEVENT
DTSTART;VALUE=DATE:20210422
DTEND;VALUE=DATE:20210423
DTSTAMP:20260422T044050
CREATED:20210119T190709Z
LAST-MODIFIED:20210119T191115Z
UID:10000704-1619049600-1619135999@rockymountainpga.com
SUMMARY:P.A.T. - Ridgecrest Golf Club
DESCRIPTION:PGA Player Ability Test\nThursday\, April 22\, 2021\nRidgecrest Golf Club\nNampa\, Idaho \nCLICK HERE for Information
URL:https://rockymountainpga.com/event/p-a-t-ridgecrest-golf-club/
CATEGORIES:PAT
END:VEVENT
BEGIN:VEVENT
DTSTART;VALUE=DATE:20200923
DTEND;VALUE=DATE:20200924
DTSTAMP:20260422T044050
CREATED:20200130T233917Z
LAST-MODIFIED:20200130T233917Z
UID:10000661-1600819200-1600905599@rockymountainpga.com
SUMMARY:Playing Ability Test
DESCRIPTION:P.A.T. \nWednesday\, September 23\, 2020\nWarm Springs Golf Course – Boise\, ID \nCLICK HERE to Enter
URL:https://rockymountainpga.com/event/playing-ability-test-5/
CATEGORIES:PAT
END:VEVENT
BEGIN:VEVENT
DTSTART;VALUE=DATE:20200805
DTEND;VALUE=DATE:20200806
DTSTAMP:20260422T044050
CREATED:20200130T233647Z
LAST-MODIFIED:20200130T233647Z
UID:10000650-1596585600-1596671999@rockymountainpga.com
SUMMARY:Playing Ability Test
DESCRIPTION:P.A.T. \nWednesday\, August 5\, 2020\nSand Creek Golf Course – Idaho Falls\, ID \nCLICK HERE for Entry
URL:https://rockymountainpga.com/event/playing-ability-test-4/
CATEGORIES:PAT
END:VEVENT
BEGIN:VEVENT
DTSTART;VALUE=DATE:20200716
DTEND;VALUE=DATE:20200717
DTSTAMP:20260422T044050
CREATED:20200130T233449Z
LAST-MODIFIED:20200130T233449Z
UID:10000649-1594857600-1594943999@rockymountainpga.com
SUMMARY:Playing Ability Test
DESCRIPTION:P.A.T. \nThursday\, July 16\, 2020\nLake Hills Golf Club – Billings\, MT \nCLICK HERE for Entry
URL:https://rockymountainpga.com/event/playing-ability-test-3/
CATEGORIES:PAT
END:VEVENT
BEGIN:VEVENT
DTSTART;VALUE=DATE:20190918
DTEND;VALUE=DATE:20190919
DTSTAMP:20260422T044050
CREATED:20190219T160128Z
LAST-MODIFIED:20190219T160128Z
UID:10000618-1568764800-1568851199@rockymountainpga.com
SUMMARY:P.A.T.
DESCRIPTION:Warm Springs Golf Course – Boise\, Idaho
URL:https://rockymountainpga.com/event/p-a-t-6/
CATEGORIES:PAT
END:VEVENT
BEGIN:VEVENT
DTSTART;VALUE=DATE:20190807
DTEND;VALUE=DATE:20190808
DTSTAMP:20260422T044050
CREATED:20190219T160128Z
LAST-MODIFIED:20190219T160128Z
UID:10000617-1565136000-1565222399@rockymountainpga.com
SUMMARY:P.A.T.
DESCRIPTION:Sand Creek Golf Course – Idaho Falls\, Idaho
URL:https://rockymountainpga.com/event/p-a-t-5/
CATEGORIES:PAT
END:VEVENT
BEGIN:VEVENT
DTSTART;VALUE=DATE:20190718
DTEND;VALUE=DATE:20190719
DTSTAMP:20260422T044050
CREATED:20190219T160128Z
LAST-MODIFIED:20190219T160128Z
UID:10000616-1563408000-1563494399@rockymountainpga.com
SUMMARY:P.A.T.
DESCRIPTION:Lake Hills Golf Club – Billings\, Montana
URL:https://rockymountainpga.com/event/p-a-t-4/
CATEGORIES:PAT
END:VEVENT
BEGIN:VEVENT
DTSTART;VALUE=DATE:20190620
DTEND;VALUE=DATE:20190621
DTSTAMP:20260422T044050
CREATED:20190219T160127Z
LAST-MODIFIED:20190219T160127Z
UID:10000615-1560988800-1561075199@rockymountainpga.com
SUMMARY:P.A.T.
DESCRIPTION:Big Sky Resort – Big Sky\, Montana
URL:https://rockymountainpga.com/event/p-a-t-3/
CATEGORIES:PAT
END:VEVENT
BEGIN:VEVENT
DTSTART;VALUE=DATE:20190522
DTEND;VALUE=DATE:20190523
DTSTAMP:20260422T044050
CREATED:20190219T160127Z
LAST-MODIFIED:20190219T160127Z
UID:10000614-1558483200-1558569599@rockymountainpga.com
SUMMARY:P.A.T.
DESCRIPTION:Rupert Country Club – Rupert\, Idaho
URL:https://rockymountainpga.com/event/p-a-t-2/
CATEGORIES:PAT
END:VEVENT
BEGIN:VEVENT
DTSTART;VALUE=DATE:20190418
DTEND;VALUE=DATE:20190419
DTSTAMP:20260422T044050
CREATED:20190219T160126Z
LAST-MODIFIED:20190219T160126Z
UID:10000613-1555545600-1555631999@rockymountainpga.com
SUMMARY:P.A.T.
DESCRIPTION:Ridgecrest Golf Club – Nampa\, Idaho
URL:https://rockymountainpga.com/event/p-a-t/
CATEGORIES:PAT
END:VEVENT
END:VCALENDAR