BEGIN:VCALENDAR
VERSION:2.0
PRODID:-//Rocky Mountain Section PGA - ECPv6.15.20//NONSGML v1.0//EN
CALSCALE:GREGORIAN
METHOD:PUBLISH
X-WR-CALNAME:Rocky Mountain Section PGA
X-ORIGINAL-URL:https://rockymountainpga.com
X-WR-CALDESC:Events for Rocky Mountain Section PGA
REFRESH-INTERVAL;VALUE=DURATION:PT1H
X-Robots-Tag:noindex
X-PUBLISHED-TTL:PT1H
BEGIN:VTIMEZONE
TZID:UTC
BEGIN:STANDARD
TZOFFSETFROM:+0000
TZOFFSETTO:+0000
TZNAME:UTC
DTSTART:20250101T000000
END:STANDARD
END:VTIMEZONE
BEGIN:VEVENT
DTSTART;VALUE=DATE:20260722
DTEND;VALUE=DATE:20260724
DTSTAMP:20260422T072940
CREATED:20260305T195453Z
LAST-MODIFIED:20260305T195453Z
UID:10001375-1784678400-1784851199@rockymountainpga.com
SUMMARY:Gallatin Valley Jr. Championship
DESCRIPTION:Gallatin Valley Junior Championship \nBridger Creek Golf Course – Bozeman\, MT\nWednesday & Thursday\, July 22-23\, 2026 \nEntry & Tournament Information will be available mid-June. \n \n 
URL:https://rockymountainpga.com/event/gallatin-valley-jr-championship-4/
CATEGORIES:Junior Golf
END:VEVENT
END:VCALENDAR