BEGIN:VCALENDAR
VERSION:2.0
PRODID:-//Rocky Mountain Section PGA - ECPv6.15.20//NONSGML v1.0//EN
CALSCALE:GREGORIAN
METHOD:PUBLISH
X-WR-CALNAME:Rocky Mountain Section PGA
X-ORIGINAL-URL:https://rockymountainpga.com
X-WR-CALDESC:Events for Rocky Mountain Section PGA
REFRESH-INTERVAL;VALUE=DURATION:PT1H
X-Robots-Tag:noindex
X-PUBLISHED-TTL:PT1H
BEGIN:VTIMEZONE
TZID:UTC
BEGIN:STANDARD
TZOFFSETFROM:+0000
TZOFFSETTO:+0000
TZNAME:UTC
DTSTART:20240101T000000
END:STANDARD
END:VTIMEZONE
BEGIN:VEVENT
DTSTART;VALUE=DATE:20250618
DTEND;VALUE=DATE:20250620
DTSTAMP:20260422T115033
CREATED:20250226T235811Z
LAST-MODIFIED:20250510T012107Z
UID:10001110-1750204800-1750377599@rockymountainpga.com
SUMMARY:RMSPGA Junior Championship
DESCRIPTION:RMSPGA Junior Championship\n \nWednesday & Thursday\, June 18-19\, 2025 \nJerome Country Club – Jerome\, Idaho \nCLICK HERE for printable entry information. \nCLICK HERE to ENTER
URL:https://rockymountainpga.com/event/rmspga-junior-championship-5/
CATEGORIES:Junior Golf
END:VEVENT
END:VCALENDAR