BEGIN:VCALENDAR
VERSION:2.0
PRODID:-//Rocky Mountain Section PGA - ECPv6.15.20//NONSGML v1.0//EN
CALSCALE:GREGORIAN
METHOD:PUBLISH
X-WR-CALNAME:Rocky Mountain Section PGA
X-ORIGINAL-URL:https://rockymountainpga.com
X-WR-CALDESC:Events for Rocky Mountain Section PGA
REFRESH-INTERVAL;VALUE=DURATION:PT1H
X-Robots-Tag:noindex
X-PUBLISHED-TTL:PT1H
BEGIN:VTIMEZONE
TZID:UTC
BEGIN:STANDARD
TZOFFSETFROM:+0000
TZOFFSETTO:+0000
TZNAME:UTC
DTSTART:20230101T000000
END:STANDARD
END:VTIMEZONE
BEGIN:VEVENT
DTSTART;VALUE=DATE:20240610
DTEND;VALUE=DATE:20240611
DTSTAMP:20260422T013049
CREATED:20240207T232308Z
LAST-MODIFIED:20240207T232308Z
UID:10000973-1717977600-1718063999@rockymountainpga.com
SUMMARY:Drive\, Chip & Putt
DESCRIPTION:DRIVE\, CHIP & PUTT LOCAL QUALIFIER \nMonday\, June 10\, 2024\nOlive Glenn Golf Club\nCody\, WY \nCLICK HERE to for the Drive\, Chip & Putt website for all information.
URL:https://rockymountainpga.com/event/drive-chip-putt-8/
CATEGORIES:Junior Golf,Section
END:VEVENT
END:VCALENDAR