BEGIN:VCALENDAR
VERSION:2.0
PRODID:-//Rocky Mountain Section PGA - ECPv6.15.20//NONSGML v1.0//EN
CALSCALE:GREGORIAN
METHOD:PUBLISH
X-ORIGINAL-URL:https://rockymountainpga.com
X-WR-CALDESC:Events for Rocky Mountain Section PGA
REFRESH-INTERVAL;VALUE=DURATION:PT1H
X-Robots-Tag:noindex
X-PUBLISHED-TTL:PT1H
BEGIN:VTIMEZONE
TZID:UTC
BEGIN:STANDARD
TZOFFSETFROM:+0000
TZOFFSETTO:+0000
TZNAME:UTC
DTSTART:20230101T000000
END:STANDARD
END:VTIMEZONE
BEGIN:VEVENT
DTSTART;VALUE=DATE:20241028
DTEND;VALUE=DATE:20241029
DTSTAMP:20260420T103204
CREATED:20240219T234826Z
LAST-MODIFIED:20241011T233410Z
UID:10001009-1730073600-1730159999@rockymountainpga.com
SUMMARY:Snake River Chapter Fall Meeting & Education
DESCRIPTION:Snake River Chapter Fall Meeting & Education\nSupported by Evolve Golf \nJerome Country Club – Jerome\, Idaho \nMonday\, October 28\, 2024 \nRegistration deadline is Friday\, October 25\, 2024 at 12:00 p.m. \nCLICK HERE for information and to register. \n 
URL:https://rockymountainpga.com/event/snake-river-chapter-fall-meeting-education-4/
CATEGORIES:Education Meetings
END:VEVENT
END:VCALENDAR