BEGIN:VCALENDAR
VERSION:2.0
PRODID:-//Rocky Mountain Section PGA - ECPv6.15.20//NONSGML v1.0//EN
CALSCALE:GREGORIAN
METHOD:PUBLISH
X-WR-CALNAME:Rocky Mountain Section PGA
X-ORIGINAL-URL:https://rockymountainpga.com
X-WR-CALDESC:Events for Rocky Mountain Section PGA
REFRESH-INTERVAL;VALUE=DURATION:PT1H
X-Robots-Tag:noindex
X-PUBLISHED-TTL:PT1H
BEGIN:VTIMEZONE
TZID:UTC
BEGIN:STANDARD
TZOFFSETFROM:+0000
TZOFFSETTO:+0000
TZNAME:UTC
DTSTART:20240101T000000
END:STANDARD
END:VTIMEZONE
BEGIN:VEVENT
DTSTART;VALUE=DATE:20250504
DTEND;VALUE=DATE:20250505
DTSTAMP:20260419T192443
CREATED:20250221T225730Z
LAST-MODIFIED:20250221T231218Z
UID:10001059-1746316800-1746403199@rockymountainpga.com
SUMMARY:Drive\, Chip & Putt
DESCRIPTION:DRIVE\, CHIP & PUTT LOCAL QUALIFIER \nSunday\, May 4\, 2025\nRidgecrest Golf Club\nNampa\, ID \nCLICK HERE to for the Drive\, Chip & Putt website for all information.
URL:https://rockymountainpga.com/event/drive-chip-putt-9/
CATEGORIES:Junior Golf
END:VEVENT
END:VCALENDAR