BEGIN:VCALENDAR
VERSION:2.0
PRODID:-//Rocky Mountain Section PGA - ECPv6.15.20//NONSGML v1.0//EN
CALSCALE:GREGORIAN
METHOD:PUBLISH
X-WR-CALNAME:Rocky Mountain Section PGA
X-ORIGINAL-URL:https://rockymountainpga.com
X-WR-CALDESC:Events for Rocky Mountain Section PGA
REFRESH-INTERVAL;VALUE=DURATION:PT1H
X-Robots-Tag:noindex
X-PUBLISHED-TTL:PT1H
BEGIN:VTIMEZONE
TZID:UTC
BEGIN:STANDARD
TZOFFSETFROM:+0000
TZOFFSETTO:+0000
TZNAME:UTC
DTSTART:20230101T000000
END:STANDARD
END:VTIMEZONE
BEGIN:VEVENT
DTSTART;VALUE=DATE:20240513
DTEND;VALUE=DATE:20240514
DTSTAMP:20260420T130834
CREATED:20240208T001546Z
LAST-MODIFIED:20240514T231345Z
UID:10000976-1715558400-1715644799@rockymountainpga.com
SUMMARY:Twin Falls GC Pro-Am
DESCRIPTION:Twin Falls Golf Club Pro-Am\nTwin Falls\, ID\nMonday\, May 13\, 2024 \n18 Holes\, Chicago; 8:00 a.m. to 1:00 p.m. Starting Times\nTee Markers: Professionals – Blue\, Women Professionals – White\, Senior Professionals – White\,\nAmateurs – White\, Women Amateurs – Red\nEntry Fees: Professionals – $70\, Amateurs – $70\nEntry Includes: $70 to Purse and Sanction\, $15 Optional Golf Car; 25 Teams Max\nGolf Genius Sign-up Dates: 8:00 a.m.; Members – 5/1\, Associates – 5/5\n(208) 733-3326 Steve Meyerhoeffer \nCLICK HERE for Final Results
URL:https://rockymountainpga.com/event/twin-falls-gc-pro-am-3/
CATEGORIES:Snake River
END:VEVENT
BEGIN:VEVENT
DTSTART;VALUE=DATE:20240513
DTEND;VALUE=DATE:20240514
DTSTAMP:20260420T130834
CREATED:20240208T002226Z
LAST-MODIFIED:20240514T212616Z
UID:10000977-1715558400-1715644799@rockymountainpga.com
SUMMARY:Yellowstone CC Scholarship Pro-Am
DESCRIPTION:RMSPGA Foundation Yellowstone Country Club Scholarship Pro-Am \nYellowstone Country Club – Billings\, MT\nMonday\, May 13\, 2024 \n18 Holes\, 1G/1N; 8:00-10:00 a.m. & 1:00-3:00 p.m. Starting Times;\nTee Markers: Professionals – Blue\, Women Professionals – White\, Amateurs – White\, Lady Amateurs – Red\,\nTee-it-FORWARD; Entry Fees: Professionals – $85\, Amateurs – $85\, $75 to Purse and Sanction;\nEntry Includes: $10 Scholarship Donation\, Deuce Pot\, Skins; 52 Teams Max;\nCLICK HERE for Golf Genius Entry: Professionals 4/30\, Amateur Team Captains – 5/3;\n(406) 656-1706 Chad Dillon \nCLICK HERE for Final Results
URL:https://rockymountainpga.com/event/yellowstone-cc-scholarship-pro-am-2/
CATEGORIES:Yellowstone
END:VEVENT
END:VCALENDAR