BEGIN:VCALENDAR
VERSION:2.0
PRODID:-//Rocky Mountain Section PGA - ECPv6.15.20//NONSGML v1.0//EN
CALSCALE:GREGORIAN
METHOD:PUBLISH
X-WR-CALNAME:Rocky Mountain Section PGA
X-ORIGINAL-URL:https://rockymountainpga.com
X-WR-CALDESC:Events for Rocky Mountain Section PGA
REFRESH-INTERVAL;VALUE=DURATION:PT1H
X-Robots-Tag:noindex
X-PUBLISHED-TTL:PT1H
BEGIN:VTIMEZONE
TZID:UTC
BEGIN:STANDARD
TZOFFSETFROM:+0000
TZOFFSETTO:+0000
TZNAME:UTC
DTSTART:20230101T000000
END:STANDARD
END:VTIMEZONE
BEGIN:VEVENT
DTSTART;VALUE=DATE:20240422
DTEND;VALUE=DATE:20240424
DTSTAMP:20260419T160128
CREATED:20240125T224234Z
LAST-MODIFIED:20240424T000248Z
UID:10000785-1713744000-1713916799@rockymountainpga.com
SUMMARY:Yellowstone Chapter Pro-Pro
DESCRIPTION:Yellowstone Chapter Pro-Pro\nSupported by Bridgestone\, Maui Jim\, ROLEX\, and The PGA TOUR \nHilands Golf Club – Billings\, MT\nMonday & Tuesday\, April 22-23\, 2024 \nCLICK HERE for Complete Results
URL:https://rockymountainpga.com/event/yellowstone-chapter-pro-pro-5/
CATEGORIES:Yellowstone
END:VEVENT
END:VCALENDAR