BEGIN:VCALENDAR
VERSION:2.0
PRODID:-//Rocky Mountain Section PGA - ECPv6.15.20//NONSGML v1.0//EN
CALSCALE:GREGORIAN
METHOD:PUBLISH
X-ORIGINAL-URL:https://rockymountainpga.com
X-WR-CALDESC:Events for Rocky Mountain Section PGA
REFRESH-INTERVAL;VALUE=DURATION:PT1H
X-Robots-Tag:noindex
X-PUBLISHED-TTL:PT1H
BEGIN:VTIMEZONE
TZID:UTC
BEGIN:STANDARD
TZOFFSETFROM:+0000
TZOFFSETTO:+0000
TZNAME:UTC
DTSTART:20230101T000000
END:STANDARD
END:VTIMEZONE
BEGIN:VEVENT
DTSTART;VALUE=DATE:20240318
DTEND;VALUE=DATE:20240319
DTSTAMP:20260426T015346
CREATED:20240123T231630Z
LAST-MODIFIED:20240325T220818Z
UID:10000964-1710720000-1710806399@rockymountainpga.com
SUMMARY:River's Edge Pro-Am
DESCRIPTION:River’s Edge Golf Club at Burley Pro-Am\nBurley\, ID\nMonday\, March 18\, 2024 \n18 Holes\, 1G/1N; 11:00 Shotgun\nTee Markers: Professionals – Black\, Women Professionals – White\, Senior Professionals – White\,\nAmateurs – White\, Women Amateurs – Gold; Entry Fees: Professionals – $84\, Amateurs – $84\,\n$70 to Purse and Sanction; Entry Includes: $14 Golf Car; 21 Teams Max\nGolf Genius Sign-up Dates: 8:00 a.m.; Members – 2/28\, Associates – 3/3\n(208) 878-9807 Scott Draper \nCLICK HERE for FINAL Results \nCLICK HERE for Golf Genius Results
URL:https://rockymountainpga.com/event/rivers-edge-golf-course-pro-am-2/
CATEGORIES:Snake River
END:VEVENT
END:VCALENDAR