BEGIN:VCALENDAR
VERSION:2.0
PRODID:-//Rocky Mountain Section PGA - ECPv6.15.20//NONSGML v1.0//EN
CALSCALE:GREGORIAN
METHOD:PUBLISH
X-ORIGINAL-URL:https://rockymountainpga.com
X-WR-CALDESC:Events for Rocky Mountain Section PGA
REFRESH-INTERVAL;VALUE=DURATION:PT1H
X-Robots-Tag:noindex
X-PUBLISHED-TTL:PT1H
BEGIN:VTIMEZONE
TZID:UTC
BEGIN:STANDARD
TZOFFSETFROM:+0000
TZOFFSETTO:+0000
TZNAME:UTC
DTSTART:20220101T000000
END:STANDARD
END:VTIMEZONE
BEGIN:VEVENT
DTSTART;VALUE=DATE:20231030
DTEND;VALUE=DATE:20231031
DTSTAMP:20260422T081937
CREATED:20230526T214319Z
LAST-MODIFIED:20231031T165300Z
UID:10000956-1698624000-1698710399@rockymountainpga.com
SUMMARY:Blue Lakes Pro-Ladies
DESCRIPTION:Blue Lakes Country Club Pro-Ladies \nTwin Falls\, ID\nMonday\, October 30\, 2023 \n18 Holes\, 1G/1N; 12:00 Shotgun;\nTee Markers: Professionals – Blue\, Women Professionals – Red\, Senior Professionals – White\,\nWomen Amateurs – Red;\nEntry Fees: Professionals – $125\, Amateurs – $125\, $75 to Purse and Sanction;\nEntry Includes: $25 Cart/Range\, $25 Lunch; 20 Teams Max;\nForeTees Online Entry Only Only Dates: 8:00 a.m.; Members – 10/18\, Associates – 10/22;\n(208) 733-2337 Mike Hamblin \nCLICK HERE for Results
URL:https://rockymountainpga.com/event/blue-lakes-pro-ladies/
CATEGORIES:Snake River
END:VEVENT
END:VCALENDAR