BEGIN:VCALENDAR
VERSION:2.0
PRODID:-//Rocky Mountain Section PGA - ECPv6.15.20//NONSGML v1.0//EN
CALSCALE:GREGORIAN
METHOD:PUBLISH
X-WR-CALNAME:Rocky Mountain Section PGA
X-ORIGINAL-URL:https://rockymountainpga.com
X-WR-CALDESC:Events for Rocky Mountain Section PGA
REFRESH-INTERVAL;VALUE=DURATION:PT1H
X-Robots-Tag:noindex
X-PUBLISHED-TTL:PT1H
BEGIN:VTIMEZONE
TZID:UTC
BEGIN:STANDARD
TZOFFSETFROM:+0000
TZOFFSETTO:+0000
TZNAME:UTC
DTSTART:20220101T000000
END:STANDARD
END:VTIMEZONE
BEGIN:VEVENT
DTSTART;VALUE=DATE:20230911
DTEND;VALUE=DATE:20230912
DTSTAMP:20260422T023445
CREATED:20230130T221828Z
LAST-MODIFIED:20230912T225921Z
UID:10000912-1694390400-1694476799@rockymountainpga.com
SUMMARY:Hilands GC Pro-Am
DESCRIPTION:Hilands Golf Club Pro-Am\nBillings\, MT\nMonday\, September 11\, 2023 \n18 Holes\, 1G/1N; 8:15 a.m. & 1:45 p.m. Shotguns;\nTee Markers: Professionals – White/Red\, Amateurs – White/Red\, Lady Amateurs – Blue/Yellow\nEntry Fees: Professionals – $75\, Amateurs – $75\, All to Purse and Sanction;\nEntry Includes: Range\, Deuce Pot\, Skins; 25 Teams Max;\nCLICK HERE for Golf Genius Entry: Members – 8/29\, Associates – 8/29\, Amateur Team Captains – 9/1;\n(406) 259-0419 Eddie Kavran \nCLICK HERE for Results
URL:https://rockymountainpga.com/event/hilands-gc-pro-am-3/
CATEGORIES:Yellowstone
END:VEVENT
BEGIN:VEVENT
DTSTART;VALUE=DATE:20230911
DTEND;VALUE=DATE:20230912
DTSTAMP:20260422T023445
CREATED:20230315T232927Z
LAST-MODIFIED:20230913T223003Z
UID:10000942-1694390400-1694476799@rockymountainpga.com
SUMMARY:Jefferson Hills GC Pro-Am
DESCRIPTION:Jefferson Hills Golf Course Pro-Am\nRigby\, ID\nMonday\, September 11\, 2023 \n18 Holes\, Chicago; 9:00 a.m. – 3:00 p.m. Starting Times\nTee Markers: Professionals – Blue\, Women Professionals – Red\,\nSr. Professionals – Blue\, Amateurs – Blue\, Lady Amateurs – Red\nEntry Fees: Professionals – $65\, Amateurs – $65\n$65 to Purse & Sanction – 37 Teams Max – Shorts permitted \nForeTees Online Entry Only Dates: Members – 8/30\, Associates 9/3\n(208) 745-6492 – Gary Schroeder \nCLICK HERE for Revised Results
URL:https://rockymountainpga.com/event/jefferson-hills-gc-pro-am/
CATEGORIES:Snake River
END:VEVENT
BEGIN:VEVENT
DTSTART;VALUE=DATE:20230911
DTEND;VALUE=DATE:20230912
DTSTAMP:20260422T023445
CREATED:20230315T233833Z
LAST-MODIFIED:20230911T222020Z
UID:10000943-1694390400-1694476799@rockymountainpga.com
SUMMARY:Lakeview GC Pro-Am
DESCRIPTION:Lakeview Golf Club Pro-Am\nMeridian\, ID\nMonday\, September 11\, 2023 \n18 Holes\, 1G/1N; 10:00 a.m. Shotgun\nTee Markers: Professionals – Blue\, Women Professionals – Red/White Combo\,\nSr. Professionals – White\, Amateurs – White\, Lady Amateurs – Red\nEntry Fees: Professionals – $75\, Amateurs – $75\nEntry Includes: $15 Golf Car – $60 to Purse & Sanction – 28 Teams Max – Shorts permitted \nForeTees On-line Entry Only Dates: Members – 8/30\, Associates – 9/3\n(208) 888-4080 – Ryan Roberts \nCLICK HERE for Results
URL:https://rockymountainpga.com/event/lakeview-gc-pro-am/
CATEGORIES:Snake River
END:VEVENT
END:VCALENDAR