BEGIN:VCALENDAR
VERSION:2.0
PRODID:-//Rocky Mountain Section PGA - ECPv6.15.20//NONSGML v1.0//EN
CALSCALE:GREGORIAN
METHOD:PUBLISH
X-ORIGINAL-URL:https://rockymountainpga.com
X-WR-CALDESC:Events for Rocky Mountain Section PGA
REFRESH-INTERVAL;VALUE=DURATION:PT1H
X-Robots-Tag:noindex
X-PUBLISHED-TTL:PT1H
BEGIN:VTIMEZONE
TZID:UTC
BEGIN:STANDARD
TZOFFSETFROM:+0000
TZOFFSETTO:+0000
TZNAME:UTC
DTSTART:20220101T000000
END:STANDARD
END:VTIMEZONE
BEGIN:VEVENT
DTSTART;VALUE=DATE:20230410
DTEND;VALUE=DATE:20230411
DTSTAMP:20260422T230318
CREATED:20230201T211308Z
LAST-MODIFIED:20230411T165222Z
UID:10000914-1681084800-1681171199@rockymountainpga.com
SUMMARY:Twin Falls GC Pro-Am
DESCRIPTION:Twin Falls Golf Club Pro-Am\nTwin Falls\, ID\nMonday\, April 10\, 2023 \n18 Holes\, 1G/1N; 11:00 a.m. Shotgun;\nTee Markers: Professionals – Blue\, Women Professionals – Red\, Senior Professionals – White\, Amateurs –\nWhite\, Women Amateurs – Red; Entry Fees: Professionals – $65\, Amateurs – $65\,\n$65 to Purse and Sanction; 28 Teams Max;\nForeTees Online Entry Only Dates: 8:00 a.m.; Members – 3/29\, Associates – 4/2;\n(208) 733-3326 Steve Meyerhoeffer \nCLICK HERE for Results
URL:https://rockymountainpga.com/event/twin-falls-gc-pro-am-2/
CATEGORIES:Snake River
END:VEVENT
END:VCALENDAR