BEGIN:VCALENDAR
VERSION:2.0
PRODID:-//Rocky Mountain Section PGA - ECPv6.15.20//NONSGML v1.0//EN
CALSCALE:GREGORIAN
METHOD:PUBLISH
X-WR-CALNAME:Rocky Mountain Section PGA
X-ORIGINAL-URL:https://rockymountainpga.com
X-WR-CALDESC:Events for Rocky Mountain Section PGA
REFRESH-INTERVAL;VALUE=DURATION:PT1H
X-Robots-Tag:noindex
X-PUBLISHED-TTL:PT1H
BEGIN:VTIMEZONE
TZID:UTC
BEGIN:STANDARD
TZOFFSETFROM:+0000
TZOFFSETTO:+0000
TZNAME:UTC
DTSTART:20210101T000000
END:STANDARD
END:VTIMEZONE
BEGIN:VEVENT
DTSTART;VALUE=DATE:20221013
DTEND;VALUE=DATE:20221014
DTSTAMP:20260421T004040
CREATED:20220413T203023Z
LAST-MODIFIED:20221014T155834Z
UID:10000884-1665619200-1665705599@rockymountainpga.com
SUMMARY:Crane Creek Country Club Pro-Ladies
DESCRIPTION:Crane Creek Country Club Pro-Ladies\nBoise\, ID\nThursday\, October 13\, 2022 \n18 Holes\, 1G/1N; 11:00 a.m. Shotgun Start\nTee Markers: Professionals – Black\, Women Professionals – White\,\nSenior Professionals – Blue\, Amateurs – Blue\, Lady Amateurs – Green\nEntry Fees: Professionals – $85\, Amateurs – $85\, $65 to Purse & Sanction\nEntry Includes: $20 Lunch\n24 Teams Max – Shorts Permitted\nForeTees On-line Entry Only Dates: Members – 10/1\, Associates – 10/5\n(208) 514-4359 – Ron Rawls \nCLICK HERE for Results
URL:https://rockymountainpga.com/event/crane-creek-country-club-pro-ladies-2/
CATEGORIES:Snake River
END:VEVENT
END:VCALENDAR