BEGIN:VCALENDAR
VERSION:2.0
PRODID:-//Rocky Mountain Section PGA - ECPv6.15.20//NONSGML v1.0//EN
CALSCALE:GREGORIAN
METHOD:PUBLISH
X-WR-CALNAME:Rocky Mountain Section PGA
X-ORIGINAL-URL:https://rockymountainpga.com
X-WR-CALDESC:Events for Rocky Mountain Section PGA
REFRESH-INTERVAL;VALUE=DURATION:PT1H
X-Robots-Tag:noindex
X-PUBLISHED-TTL:PT1H
BEGIN:VTIMEZONE
TZID:UTC
BEGIN:STANDARD
TZOFFSETFROM:+0000
TZOFFSETTO:+0000
TZNAME:UTC
DTSTART:20210101T000000
END:STANDARD
END:VTIMEZONE
BEGIN:VEVENT
DTSTART;VALUE=DATE:20220912
DTEND;VALUE=DATE:20220913
DTSTAMP:20260420T175404
CREATED:20220314T232047Z
LAST-MODIFIED:20220913T142356Z
UID:10000685-1662940800-1663027199@rockymountainpga.com
SUMMARY:Hilands GC Pro-Am
DESCRIPTION:Hilands Golf Club Pro-Am\nBillings\, MT\nMonday\, September 12\, 2022 \n18 Holes\, 1G/2N; 8:15 a.m. & 1:45 p.m. Shotguns;\nTee Markers: Professionals – White/Red\, Amateurs – White/Red\, Lady Amateurs – Blue/Yellow\nEntry Fees: Professionals – $75\, Amateurs – $75\, All to Purse and Sanction;\nEntry Includes: Deuce Pot\, Skins\, UGC’s offered; 25 Teams Max;\nCall In Dates: Members – 8/12\, Associates – 8/12\, Amateur Team Captains – 8/14;\n(406) 259-0419 Eddie Kavran \nCLICK HERE for Results
URL:https://rockymountainpga.com/event/hilands-gc-pro-am-2/
CATEGORIES:Yellowstone
END:VEVENT
BEGIN:VEVENT
DTSTART;VALUE=DATE:20220912
DTEND;VALUE=DATE:20220913
DTSTAMP:20260420T175404
CREATED:20220413T195433Z
LAST-MODIFIED:20220913T164021Z
UID:10000697-1662940800-1663027199@rockymountainpga.com
SUMMARY:Jug Mountain Ranch Pro-Am
DESCRIPTION:Jug Mountain Ranch Pro-Am\nMcCall\, ID\nMonday\, September 12\, 2022 \n18 Holes\, Chicago; 11:00 a.m. Shotgun \nTee Markers: Professionals – Gold\, Women Professionals – Red\,\nSenior Professionals – Blue\, Amateurs – Blue\, Lady Amateurs – Red\nEntry Fees: Professionals – $100\, Amateurs – $100\n$75 to Purse & Sanction\nEntry Includes: $2\,000 Added\, $10 Golf Car\, $15 Lunch\n28 Teams Max – Shorts Permitted \nForeTees Online Entry Only Dates: Members – 8/31\, Associates – 9/4\n(208) 634-5072 – Dustin Ames \nCLICK HERE for Results
URL:https://rockymountainpga.com/event/jug-mountain-ranch-pro-am-4/
CATEGORIES:Snake River
END:VEVENT
BEGIN:VEVENT
DTSTART;VALUE=DATE:20220912
DTEND;VALUE=DATE:20220913
DTSTAMP:20260420T175404
CREATED:20220413T200057Z
LAST-MODIFIED:20220913T143052Z
UID:10000699-1662940800-1663027199@rockymountainpga.com
SUMMARY:Jefferson Hills Golf Course Pro-Am
DESCRIPTION:Jefferson Hills Golf Course Pro-Am\nRigby\, ID\nMonday\, September 12\, 2022 \n18 Holes\, Chicago; 8:00 a.m. – 3:00 p.m. Starting Times\nTee Markers: Professionals – Blue\, Women Professionals – Red\,\nSr. Professionals – Blue\, Amateurs – Blue\, Lady Amateurs – Red\nEntry Fees: Professionals – $60\, Amateurs – $60\n$60 to Purse & Sanction – 43 Teams Max – Shorts permitted \nForeTees Online Entry Only Dates: Members – 8/31\, Associates 9/4\n(208) 745-6492 – Gary Schroeder \nCLICK HERE for Results
URL:https://rockymountainpga.com/event/jefferson-hills-golf-course-pro-am-4/
CATEGORIES:Snake River
END:VEVENT
END:VCALENDAR