BEGIN:VCALENDAR
VERSION:2.0
PRODID:-//Rocky Mountain Section PGA - ECPv6.15.20//NONSGML v1.0//EN
CALSCALE:GREGORIAN
METHOD:PUBLISH
X-ORIGINAL-URL:https://rockymountainpga.com
X-WR-CALDESC:Events for Rocky Mountain Section PGA
REFRESH-INTERVAL;VALUE=DURATION:PT1H
X-Robots-Tag:noindex
X-PUBLISHED-TTL:PT1H
BEGIN:VTIMEZONE
TZID:UTC
BEGIN:STANDARD
TZOFFSETFROM:+0000
TZOFFSETTO:+0000
TZNAME:UTC
DTSTART:20210101T000000
END:STANDARD
END:VTIMEZONE
BEGIN:VEVENT
DTSTART;VALUE=DATE:20220705
DTEND;VALUE=DATE:20220707
DTSTAMP:20260421T104545
CREATED:20220314T235025Z
LAST-MODIFIED:20220706T221037Z
UID:10000863-1656979200-1657151999@rockymountainpga.com
SUMMARY:Jackpot GC Pro-Ladies
DESCRIPTION:Jackpot Golf Club Pro-Ladies\nJackpot\, NV\nTuesday & Wednesday\, July 5-6\, 2022 \n36 Holes\, 1G/1N; 1:00 p.m. Tuesday & 9:00 a.m. Wednesday Shotguns\nTee Markers: Professionals – Blue\, Women Professionals – Red\,\nSenior Professionals – White\, Amateurs – White\, Lady Amateurs – Red\nEntry Fees: Professionals – $175\, Amateurs – $175\n$145 to Purse & Sanction\nEntry Includes: $2 Range\, $28 Golf Car\n28 Teams Max – Shorts Permitted\nForeTees On-line Entry Only Dates: Members – 6/23\, Associates – 6/27\n(775) 755-2260 – Brent Fleshman \nCLICK HERE for Results
URL:https://rockymountainpga.com/event/jackpot-gc-pro-ladies/
CATEGORIES:Snake River
END:VEVENT
END:VCALENDAR