BEGIN:VCALENDAR
VERSION:2.0
PRODID:-//Rocky Mountain Section PGA - ECPv6.15.20//NONSGML v1.0//EN
CALSCALE:GREGORIAN
METHOD:PUBLISH
X-ORIGINAL-URL:https://rockymountainpga.com
X-WR-CALDESC:Events for Rocky Mountain Section PGA
REFRESH-INTERVAL;VALUE=DURATION:PT1H
X-Robots-Tag:noindex
X-PUBLISHED-TTL:PT1H
BEGIN:VTIMEZONE
TZID:UTC
BEGIN:STANDARD
TZOFFSETFROM:+0000
TZOFFSETTO:+0000
TZNAME:UTC
DTSTART:20210101T000000
END:STANDARD
END:VTIMEZONE
BEGIN:VEVENT
DTSTART;VALUE=DATE:20220303
DTEND;VALUE=DATE:20220305
DTSTAMP:20260423T034737
CREATED:20220218T190736Z
LAST-MODIFIED:20220218T190838Z
UID:10000834-1646265600-1646438399@rockymountainpga.com
SUMMARY:Specialized Member Education
DESCRIPTION:Specialized PGA Member Only Education \nFriday & Saturday\, March 3-4\, 2022\nIdaho Falls\, ID \nCLICK HERE for the BlueGolf Page and all Education Seminar information and registration.
URL:https://rockymountainpga.com/event/specialized-member-education/
CATEGORIES:Education Meetings
END:VEVENT
END:VCALENDAR