BEGIN:VCALENDAR
VERSION:2.0
PRODID:-//Rocky Mountain Section PGA - ECPv6.15.20//NONSGML v1.0//EN
CALSCALE:GREGORIAN
METHOD:PUBLISH
X-ORIGINAL-URL:https://rockymountainpga.com
X-WR-CALDESC:Events for Rocky Mountain Section PGA
REFRESH-INTERVAL;VALUE=DURATION:PT1H
X-Robots-Tag:noindex
X-PUBLISHED-TTL:PT1H
BEGIN:VTIMEZONE
TZID:UTC
BEGIN:STANDARD
TZOFFSETFROM:+0000
TZOFFSETTO:+0000
TZNAME:UTC
DTSTART:20200101T000000
END:STANDARD
END:VTIMEZONE
BEGIN:VEVENT
DTSTART;VALUE=DATE:20211004
DTEND;VALUE=DATE:20211006
DTSTAMP:20260420T091012
CREATED:20210129T233211Z
LAST-MODIFIED:20210924T201737Z
UID:10000782-1633305600-1633478399@rockymountainpga.com
SUMMARY:RMSPGA Fall Pro-Pro
DESCRIPTION:RMSPGA Fall Pro-Pro presented by Cobra / Puma Golf\nSupported by JC Golf Accessories\, Dynamic Brands\, ROLEX and The PGA TOUR \nIdaho Falls Country Club – Idaho Falls\, ID\nMonday & Tuesday\, October 4-5\, 2021 \nCLICK HERE for Entry Information \nCLICK HERE for the BlueGolf  Page and Event Entry and Information \n 
URL:https://rockymountainpga.com/event/rmspga-fall-pro-pro-2/
CATEGORIES:Section
END:VEVENT
END:VCALENDAR