BEGIN:VCALENDAR
VERSION:2.0
PRODID:-//Rocky Mountain Section PGA - ECPv6.15.20//NONSGML v1.0//EN
CALSCALE:GREGORIAN
METHOD:PUBLISH
X-WR-CALNAME:Rocky Mountain Section PGA
X-ORIGINAL-URL:https://rockymountainpga.com
X-WR-CALDESC:Events for Rocky Mountain Section PGA
REFRESH-INTERVAL;VALUE=DURATION:PT1H
X-Robots-Tag:noindex
X-PUBLISHED-TTL:PT1H
BEGIN:VTIMEZONE
TZID:UTC
BEGIN:STANDARD
TZOFFSETFROM:+0000
TZOFFSETTO:+0000
TZNAME:UTC
DTSTART:20200101T000000
END:STANDARD
END:VTIMEZONE
BEGIN:VEVENT
DTSTART;VALUE=DATE:20210510
DTEND;VALUE=DATE:20210511
DTSTAMP:20260425T223427
CREATED:20210121T220156Z
LAST-MODIFIED:20210511T163947Z
UID:10000720-1620604800-1620691199@rockymountainpga.com
SUMMARY:Twin Falls Golf Club Pro-Am
DESCRIPTION:Twin Falls Golf Club Pro-Am\nTwin Falls\, ID\nMonday\, May 10\, 2021 \n18 Holes\, 1G / 1N; 8:00 a.m. – 1:00 p.m. Starting Times;\nTee Markers: Professionals – Blue\, Women Professionals – Red\, Senior Professionals – White\, Amateurs –\nWhite\, Women Amateurs – Red; Entry Fees: Professionals – $60\, Amateurs – $60\,\n$60 to Purse and Sanction; 31 Teams Max;\nForeTees Online Entry Only Dates: 8:00 a.m.; Members – 4/28\, Associates – 5/2;\n(208) 733-3326 Steve Meyerhoeffer \nCLICK HERE for Results \n 
URL:https://rockymountainpga.com/event/twin-falls-golf-club-pro-am/
CATEGORIES:Snake River
END:VEVENT
BEGIN:VEVENT
DTSTART;VALUE=DATE:20210510
DTEND;VALUE=DATE:20210511
DTSTAMP:20260425T223427
CREATED:20210121T220344Z
LAST-MODIFIED:20210511T202210Z
UID:10000721-1620604800-1620691199@rockymountainpga.com
SUMMARY:Yellowstone Country Club Scholarship Pro-Am
DESCRIPTION:Yellowstone Country Club Scholarship Pro-Am \nYellowstone Country Club – Billings\, MT\nMonday\, May 10\, 2021 \n18 Holes\, 1G/2N; 8:00 a.m. Starting Times;\nTee Markers: Professionals – Blue\, Women Professionals – Red\, Amateurs – Blue\, Lady Amateurs – Red\,\nTee-it-FORWARD; Entry Fees: Professionals – $80\, Amateurs – $75\, $70/$65 to Purse and Sanction;\nEntry Includes: $10 Scholarship Donation\, Deuce Pot\, Skins\, UGC’s offered; 52 Teams Max;\nCall In Dates: Members – 4/10\, Associates – 4/10\, Amateur Team Captains – 4/14;\n(406) 656-1706 Chad Dillon \nCLICK HERE for Results
URL:https://rockymountainpga.com/event/yellowstone-country-club-scholarship-pro-am-3/
CATEGORIES:Yellowstone
END:VEVENT
END:VCALENDAR