BEGIN:VCALENDAR
VERSION:2.0
PRODID:-//Rocky Mountain Section PGA - ECPv6.15.20//NONSGML v1.0//EN
CALSCALE:GREGORIAN
METHOD:PUBLISH
X-WR-CALNAME:Rocky Mountain Section PGA
X-ORIGINAL-URL:https://rockymountainpga.com
X-WR-CALDESC:Events for Rocky Mountain Section PGA
REFRESH-INTERVAL;VALUE=DURATION:PT1H
X-Robots-Tag:noindex
X-PUBLISHED-TTL:PT1H
BEGIN:VTIMEZONE
TZID:UTC
BEGIN:STANDARD
TZOFFSETFROM:+0000
TZOFFSETTO:+0000
TZNAME:UTC
DTSTART:20200101T000000
END:STANDARD
END:VTIMEZONE
BEGIN:VEVENT
DTSTART;VALUE=DATE:20210502
DTEND;VALUE=DATE:20210503
DTSTAMP:20260420T223828
CREATED:20210121T215017Z
LAST-MODIFIED:20210610T212040Z
UID:10000603-1619913600-1619999999@rockymountainpga.com
SUMMARY:Drive\, Chip & Putt
DESCRIPTION:Drive\, Chip & Putt \nRidgecrest Golf Club\nNampa\, ID\nSunday\, May 2\, 2021 \nCLICK HERE for Results
URL:https://rockymountainpga.com/event/drive-chip-putt/
END:VEVENT
END:VCALENDAR