BEGIN:VCALENDAR
VERSION:2.0
PRODID:-//Rocky Mountain Section PGA - ECPv6.15.20//NONSGML v1.0//EN
CALSCALE:GREGORIAN
METHOD:PUBLISH
X-WR-CALNAME:Rocky Mountain Section PGA
X-ORIGINAL-URL:https://rockymountainpga.com
X-WR-CALDESC:Events for Rocky Mountain Section PGA
REFRESH-INTERVAL;VALUE=DURATION:PT1H
X-Robots-Tag:noindex
X-PUBLISHED-TTL:PT1H
BEGIN:VTIMEZONE
TZID:UTC
BEGIN:STANDARD
TZOFFSETFROM:+0000
TZOFFSETTO:+0000
TZNAME:UTC
DTSTART:20200101T000000
END:STANDARD
END:VTIMEZONE
BEGIN:VEVENT
DTSTART;VALUE=DATE:20210308
DTEND;VALUE=DATE:20210309
DTSTAMP:20260421T213256
CREATED:20210121T203931Z
LAST-MODIFIED:20210309T202441Z
UID:10000713-1615161600-1615247999@rockymountainpga.com
SUMMARY:Clear Lake Country Club Pro-Am
DESCRIPTION:Clear Lake Country Club Pro-Am\nBuhl\, ID\nMonday\, March 8\, 2021 \n18 Holes\, 1G/1N; 11:00 Shotgun\nTee Markers: Professionals – Blue\, Women Professionals – White\,\nSenior Professionals – Blue\, Amateurs – White\, Lady Amateurs – Red\nEntry Fees: Professionals – $80\, Amateurs – $80\n$65 to Purse & Sanction\nEntry Includes: $15 Golf Car\n28 Teams Max – Shorts Permitted\nForeTees On-line Entry Only Dates: Members – 2/24\, Associates – 2/28\n(208) 543-4849 – Brian Kain \nCLICK HERE for Results
URL:https://rockymountainpga.com/event/clear-lake-country-club-pro-am-3/
CATEGORIES:Snake River
END:VEVENT
END:VCALENDAR