BEGIN:VCALENDAR
VERSION:2.0
PRODID:-//Rocky Mountain Section PGA - ECPv6.15.20//NONSGML v1.0//EN
CALSCALE:GREGORIAN
METHOD:PUBLISH
X-WR-CALNAME:Rocky Mountain Section PGA
X-ORIGINAL-URL:https://rockymountainpga.com
X-WR-CALDESC:Events for Rocky Mountain Section PGA
REFRESH-INTERVAL;VALUE=DURATION:PT1H
X-Robots-Tag:noindex
X-PUBLISHED-TTL:PT1H
BEGIN:VTIMEZONE
TZID:UTC
BEGIN:STANDARD
TZOFFSETFROM:+0000
TZOFFSETTO:+0000
TZNAME:UTC
DTSTART:20190101T000000
END:STANDARD
END:VTIMEZONE
BEGIN:VEVENT
DTSTART;VALUE=DATE:20201117
DTEND;VALUE=DATE:20201118
DTSTAMP:20260421T090232
CREATED:20200131T002820Z
LAST-MODIFIED:20201113T224006Z
UID:10000680-1605571200-1605657599@rockymountainpga.com
SUMMARY:Snake River Chapter Fall Membership Meeting
DESCRIPTION:Snake River Chapter Fall Membership Meeting & Education Seminars\n \nTuesday\, November 17\, 2020\nVirtual Attendance Only\n9:00 a.m. – 1:30 p.m.
URL:https://rockymountainpga.com/event/snake-river-chapter-fall-meeting-2/
CATEGORIES:Education Meetings,Snake River
END:VEVENT
END:VCALENDAR