BEGIN:VCALENDAR
VERSION:2.0
PRODID:-//Rocky Mountain Section PGA - ECPv6.15.20//NONSGML v1.0//EN
CALSCALE:GREGORIAN
METHOD:PUBLISH
X-ORIGINAL-URL:https://rockymountainpga.com
X-WR-CALDESC:Events for Rocky Mountain Section PGA
REFRESH-INTERVAL;VALUE=DURATION:PT1H
X-Robots-Tag:noindex
X-PUBLISHED-TTL:PT1H
BEGIN:VTIMEZONE
TZID:UTC
BEGIN:STANDARD
TZOFFSETFROM:+0000
TZOFFSETTO:+0000
TZNAME:UTC
DTSTART:20190101T000000
END:STANDARD
END:VTIMEZONE
BEGIN:VEVENT
DTSTART;VALUE=DATE:20201012
DTEND;VALUE=DATE:20201014
DTSTAMP:20260423T225726
CREATED:20200131T002545Z
LAST-MODIFIED:20201013T232101Z
UID:10000676-1602460800-1602633599@rockymountainpga.com
SUMMARY:Snake River Chapter Match Play Championship
DESCRIPTION:Snake River Chapter Match Play Championship\nsupported by Bridgestone Golf\, Dynamic Brands\, OMEGA & The PGA TOUR \nMonday & Tuesday\, October 12-13\, 2020\nBlue Lakes Country Club – Twin Falls\, ID \nCLICK HERE for the BlueGolf page and all Match results.
URL:https://rockymountainpga.com/event/snake-river-chapter-match-play-championship/
CATEGORIES:Snake River
END:VEVENT
END:VCALENDAR