BEGIN:VCALENDAR
VERSION:2.0
PRODID:-//Rocky Mountain Section PGA - ECPv6.15.20//NONSGML v1.0//EN
CALSCALE:GREGORIAN
METHOD:PUBLISH
X-WR-CALNAME:Rocky Mountain Section PGA
X-ORIGINAL-URL:https://rockymountainpga.com
X-WR-CALDESC:Events for Rocky Mountain Section PGA
REFRESH-INTERVAL;VALUE=DURATION:PT1H
X-Robots-Tag:noindex
X-PUBLISHED-TTL:PT1H
BEGIN:VTIMEZONE
TZID:UTC
BEGIN:STANDARD
TZOFFSETFROM:+0000
TZOFFSETTO:+0000
TZNAME:UTC
DTSTART:20190101T000000
END:STANDARD
END:VTIMEZONE
BEGIN:VEVENT
DTSTART;VALUE=DATE:20200817
DTEND;VALUE=DATE:20200819
DTSTAMP:20260420T114014
CREATED:20200130T223958Z
LAST-MODIFIED:20200819T190110Z
UID:10000636-1597622400-1597795199@rockymountainpga.com
SUMMARY:Jackpot Golf Club Pro-Am Presented by Cactus Pete's Resort Casino
DESCRIPTION:Jackpot Golf Club Pro-Am\nJackpot\, NV\nMonday & Tuesday\, August 17-18\, 2020\n36 Holes\, 1G/1N;\nTee Markers: Professionals – Blue\, Women Professionals – Red\,\nSenior Professionals – White\, Amateurs – White\, Lady Amateurs – Red\nEntry Fees: Professionals – $175\, Amateurs – $175\n$145 to Purse & Sanction\nEntry Includes: $2\,000 Added\, $2 Range\, $28 Golf Car\n56 Teams Max – Shorts Permitted\nForeTees On-line Entry Only Dates: Members – 8/5\, Associates – 8/9\n(775) 755-2260 – Brent Fleshman \nCLICK HERE for results
URL:https://rockymountainpga.com/event/jackpot-golf-club-pro-am-presented-by-cactus-petes-resort-casino/
CATEGORIES:Snake River
END:VEVENT
END:VCALENDAR